BEGIN:VCALENDAR
VERSION:2.0
PRODID:-//Chrono Karting - ECPv6.15.17//NONSGML v1.0//EN
CALSCALE:GREGORIAN
METHOD:PUBLISH
X-WR-CALNAME:Chrono Karting
X-ORIGINAL-URL:https://www.chrono.nl
X-WR-CALDESC:Evenementen voor Chrono Karting
REFRESH-INTERVAL;VALUE=DURATION:PT1H
X-Robots-Tag:noindex
X-PUBLISHED-TTL:PT1H
BEGIN:VTIMEZONE
TZID:Europe/Paris
BEGIN:DAYLIGHT
TZOFFSETFROM:+0100
TZOFFSETTO:+0200
TZNAME:CEST
DTSTART:20160327T010000
END:DAYLIGHT
BEGIN:STANDARD
TZOFFSETFROM:+0200
TZOFFSETTO:+0100
TZNAME:CET
DTSTART:20161030T010000
END:STANDARD
BEGIN:DAYLIGHT
TZOFFSETFROM:+0100
TZOFFSETTO:+0200
TZNAME:CEST
DTSTART:20170326T010000
END:DAYLIGHT
BEGIN:STANDARD
TZOFFSETFROM:+0200
TZOFFSETTO:+0100
TZNAME:CET
DTSTART:20171029T010000
END:STANDARD
BEGIN:DAYLIGHT
TZOFFSETFROM:+0100
TZOFFSETTO:+0200
TZNAME:CEST
DTSTART:20180325T010000
END:DAYLIGHT
BEGIN:STANDARD
TZOFFSETFROM:+0200
TZOFFSETTO:+0100
TZNAME:CET
DTSTART:20181028T010000
END:STANDARD
BEGIN:DAYLIGHT
TZOFFSETFROM:+0100
TZOFFSETTO:+0200
TZNAME:CEST
DTSTART:20190331T010000
END:DAYLIGHT
BEGIN:STANDARD
TZOFFSETFROM:+0200
TZOFFSETTO:+0100
TZNAME:CET
DTSTART:20191027T010000
END:STANDARD
BEGIN:DAYLIGHT
TZOFFSETFROM:+0100
TZOFFSETTO:+0200
TZNAME:CEST
DTSTART:20200329T010000
END:DAYLIGHT
BEGIN:STANDARD
TZOFFSETFROM:+0200
TZOFFSETTO:+0100
TZNAME:CET
DTSTART:20201025T010000
END:STANDARD
BEGIN:DAYLIGHT
TZOFFSETFROM:+0100
TZOFFSETTO:+0200
TZNAME:CEST
DTSTART:20210328T010000
END:DAYLIGHT
BEGIN:STANDARD
TZOFFSETFROM:+0200
TZOFFSETTO:+0100
TZNAME:CET
DTSTART:20211031T010000
END:STANDARD
BEGIN:DAYLIGHT
TZOFFSETFROM:+0100
TZOFFSETTO:+0200
TZNAME:CEST
DTSTART:20220327T010000
END:DAYLIGHT
BEGIN:STANDARD
TZOFFSETFROM:+0200
TZOFFSETTO:+0100
TZNAME:CET
DTSTART:20221030T010000
END:STANDARD
BEGIN:DAYLIGHT
TZOFFSETFROM:+0100
TZOFFSETTO:+0200
TZNAME:CEST
DTSTART:20230326T010000
END:DAYLIGHT
BEGIN:STANDARD
TZOFFSETFROM:+0200
TZOFFSETTO:+0100
TZNAME:CET
DTSTART:20231029T010000
END:STANDARD
BEGIN:DAYLIGHT
TZOFFSETFROM:+0100
TZOFFSETTO:+0200
TZNAME:CEST
DTSTART:20240331T010000
END:DAYLIGHT
BEGIN:STANDARD
TZOFFSETFROM:+0200
TZOFFSETTO:+0100
TZNAME:CET
DTSTART:20241027T010000
END:STANDARD
BEGIN:DAYLIGHT
TZOFFSETFROM:+0100
TZOFFSETTO:+0200
TZNAME:CEST
DTSTART:20250330T010000
END:DAYLIGHT
BEGIN:STANDARD
TZOFFSETFROM:+0200
TZOFFSETTO:+0100
TZNAME:CET
DTSTART:20251026T010000
END:STANDARD
BEGIN:DAYLIGHT
TZOFFSETFROM:+0100
TZOFFSETTO:+0200
TZNAME:CEST
DTSTART:20260329T010000
END:DAYLIGHT
BEGIN:STANDARD
TZOFFSETFROM:+0200
TZOFFSETTO:+0100
TZNAME:CET
DTSTART:20261025T010000
END:STANDARD
BEGIN:DAYLIGHT
TZOFFSETFROM:+0100
TZOFFSETTO:+0200
TZNAME:CEST
DTSTART:20270328T010000
END:DAYLIGHT
BEGIN:STANDARD
TZOFFSETFROM:+0200
TZOFFSETTO:+0100
TZNAME:CET
DTSTART:20271031T010000
END:STANDARD
END:VTIMEZONE
BEGIN:VEVENT
DTSTART;TZID=Europe/Paris:20260419T080000
DTEND;TZID=Europe/Paris:20260419T100000
DTSTAMP:20260423T014107
CREATED:20170104T164647Z
LAST-MODIFIED:20260206T135156Z
UID:9835-1776585600-1776592800@www.chrono.nl
SUMMARY:DKS Beginnersles 3
DESCRIPTION:
URL:https://www.chrono.nl/event/dks-les-3-circuit-landsard/
LOCATION:Circuit de Landsard (NL)\, Landsardseweg 47\, Eindhoven\, 5657 AB\, Nederland
CATEGORIES:Dutch Karting School,Dutch Karting School Beginners
ATTACH;FMTTYPE=image/jpeg:https://www.chrono.nl/wp-content/uploads/2016/11/TSC_2336.jpg
ORGANIZER;CN="Chrono Karting BV":MAILTO:gaby@chrono.nl
END:VEVENT
BEGIN:VEVENT
DTSTART;TZID=Europe/Paris:20260329T100000
DTEND;TZID=Europe/Paris:20260329T120000
DTSTAMP:20260423T014107
CREATED:20200204T135119Z
LAST-MODIFIED:20260206T135119Z
UID:14153-1774778400-1774785600@www.chrono.nl
SUMMARY:DKS Beginnersles 2
DESCRIPTION:
URL:https://www.chrono.nl/event/dks-beginnersles-2/
LOCATION:Circuit de Landsard (NL)\, Landsardseweg 47\, Eindhoven\, 5657 AB\, Nederland
CATEGORIES:Dutch Karting School Beginners
ATTACH;FMTTYPE=image/jpeg:https://www.chrono.nl/wp-content/uploads/2017/10/tsc_9103.jpg
ORGANIZER;CN="Chrono Karting BV":MAILTO:gaby@chrono.nl
END:VEVENT
BEGIN:VEVENT
DTSTART;TZID=Europe/Paris:20260329T080000
DTEND;TZID=Europe/Paris:20260329T100000
DTSTAMP:20260423T014107
CREATED:20200204T134951Z
LAST-MODIFIED:20260206T134934Z
UID:14151-1774771200-1774778400@www.chrono.nl
SUMMARY:DKS Beginnersles 1
DESCRIPTION:
URL:https://www.chrono.nl/event/dks-beginnersles-1/
LOCATION:Circuit de Landsard (NL)\, Landsardseweg 47\, Eindhoven\, 5657 AB\, Nederland
CATEGORIES:Dutch Karting School Beginners
ATTACH;FMTTYPE=image/jpeg:https://www.chrono.nl/wp-content/uploads/2017/10/tsc_9038.jpg
ORGANIZER;CN="Chrono Karting BV":MAILTO:gaby@chrono.nl
END:VEVENT
BEGIN:VEVENT
DTSTART;TZID=Europe/Paris:20250302T100000
DTEND;TZID=Europe/Paris:20250302T120000
DTSTAMP:20260423T014107
CREATED:20191007T114440Z
LAST-MODIFIED:20250129T114244Z
UID:13722-1740909600-1740916800@www.chrono.nl
SUMMARY:KNAF Theorie en Praktijk examen
DESCRIPTION:Voor rijders met een eigen kart van 6 t/m 12 jaar \nAanmelden via de knaf website
URL:https://www.chrono.nl/event/open-winter-2t-serie-2020-2/
LOCATION:Circuit SHW strijen\, Voorweg 1\, Strijen\, Zuid-Holland\, 3291 KG\, Nederland
CATEGORIES:Dutch Karting School Beginners
ORGANIZER;CN="BMC":MAILTO:info@kartinggenk.be
END:VEVENT
BEGIN:VEVENT
DTSTART;TZID=Europe/Paris:20250216T080000
DTEND;TZID=Europe/Paris:20250216T100000
DTSTAMP:20260423T014107
CREATED:20250129T113542Z
LAST-MODIFIED:20250129T114311Z
UID:19588-1739692800-1739700000@www.chrono.nl
SUMMARY:KNAF Theorie en Praktijk examen
DESCRIPTION:Alleen voor rijders met een eigen kart van 7 t/m 12 jaar \nAanmelden via de knaf website
URL:https://www.chrono.nl/event/knaf-theorie-en-praktijk-examen/
LOCATION:Circuit de Landsard (NL)\, Landsardseweg 47\, Eindhoven\, 5657 AB\, Nederland
CATEGORIES:Dutch Karting School Beginners
ORGANIZER;CN="Chrono Karting BV":MAILTO:gaby@chrono.nl
END:VEVENT
BEGIN:VEVENT
DTSTART;TZID=Europe/Paris:20250216T080000
DTEND;TZID=Europe/Paris:20250216T100000
DTSTAMP:20260423T014107
CREATED:20200204T102123Z
LAST-MODIFIED:20250105T111252Z
UID:14143-1739692800-1739700000@www.chrono.nl
SUMMARY:DKS Kennismakingsles
DESCRIPTION:
URL:https://www.chrono.nl/event/kennismakingsles/
LOCATION:Circuit de Landsard (NL)\, Landsardseweg 47\, Eindhoven\, 5657 AB\, Nederland
CATEGORIES:Dutch Karting School Beginners
ATTACH;FMTTYPE=image/jpeg:https://www.chrono.nl/wp-content/uploads/2017/09/gopr5386-2.jpg
ORGANIZER;CN="Chrono Karting BV":MAILTO:gaby@chrono.nl
END:VEVENT
BEGIN:VEVENT
DTSTART;TZID=Europe/Paris:20250205T120000
DTEND;TZID=Europe/Paris:20250205T160000
DTSTAMP:20260423T014107
CREATED:20250129T112310Z
LAST-MODIFIED:20250129T112310Z
UID:19586-1738756800-1738771200@www.chrono.nl
SUMMARY:KNAF Theorie Examen
DESCRIPTION:Aanmelden via de website van de KNAF \nLocatie: \nChrono Karting BV kantoor
URL:https://www.chrono.nl/event/knaf-theorie-examen/
CATEGORIES:Dutch Karting School Beginners
END:VEVENT
BEGIN:VEVENT
DTSTART;TZID=Europe/Paris:20200419T100000
DTEND;TZID=Europe/Paris:20200419T120000
DTSTAMP:20260423T014107
CREATED:20200204T135217Z
LAST-MODIFIED:20200204T135217Z
UID:14155-1587290400-1587297600@www.chrono.nl
SUMMARY:DKS Beginnersles 3
DESCRIPTION:
URL:https://www.chrono.nl/event/dks-beginnersles-3/
LOCATION:Circuit Park Berghem (NL)\, Zevenbergseweg 45\, Berghem (Oss)\, 5351 PG\, Nederland
CATEGORIES:Dutch Karting School Beginners
ATTACH;FMTTYPE=image/jpeg:https://www.chrono.nl/wp-content/uploads/2017/10/tsc_9113.jpg
ORGANIZER;CN="Chrono Karting BV":MAILTO:gaby@chrono.nl
END:VEVENT
BEGIN:VEVENT
DTSTART;TZID=Europe/Paris:20190929T090000
DTEND;TZID=Europe/Paris:20190929T130000
DTSTAMP:20260423T014107
CREATED:20190104T180608Z
LAST-MODIFIED:20190104T180608Z
UID:12781-1569747600-1569762000@www.chrono.nl
SUMMARY:Dutch karting school Beginnersles 9 en examen
DESCRIPTION:
URL:https://www.chrono.nl/event/dutch-karting-school-beginnersles-9-en-examen/
LOCATION:Circuit Park Berghem (NL)\, Zevenbergseweg 45\, Berghem (Oss)\, 5351 PG\, Nederland
CATEGORIES:Dutch Karting School Beginners
ATTACH;FMTTYPE=image/jpeg:https://www.chrono.nl/wp-content/uploads/2016/12/tsc_4490.jpg
ORGANIZER;CN="Chrono Karting BV":MAILTO:gaby@chrono.nl
END:VEVENT
BEGIN:VEVENT
DTSTART;TZID=Europe/Paris:20190915T090000
DTEND;TZID=Europe/Paris:20190915T110000
DTSTAMP:20260423T014107
CREATED:20190104T180449Z
LAST-MODIFIED:20190104T180449Z
UID:12779-1568538000-1568545200@www.chrono.nl
SUMMARY:Dutch karting school Beginnersles 8
DESCRIPTION:
URL:https://www.chrono.nl/event/dutch-karting-school-beginnersles-8/
LOCATION:Circuit de Landsard (NL)\, Landsardseweg 47\, Eindhoven\, 5657 AB\, Nederland
CATEGORIES:Dutch Karting School Beginners
ATTACH;FMTTYPE=image/jpeg:https://www.chrono.nl/wp-content/uploads/2017/06/tsc_6303.jpg
ORGANIZER;CN="Chrono Karting BV":MAILTO:gaby@chrono.nl
END:VEVENT
BEGIN:VEVENT
DTSTART;TZID=Europe/Paris:20190825T100000
DTEND;TZID=Europe/Paris:20190825T120000
DTSTAMP:20260423T014107
CREATED:20190104T180343Z
LAST-MODIFIED:20190104T180343Z
UID:12777-1566727200-1566734400@www.chrono.nl
SUMMARY:Dutch karting school Beginnersles 7
DESCRIPTION:
URL:https://www.chrono.nl/event/dutch-karting-school-beginnersles-7/
LOCATION:Circuit Park Berghem (NL)\, Zevenbergseweg 45\, Berghem (Oss)\, 5351 PG\, Nederland
CATEGORIES:Dutch Karting School Beginners
ATTACH;FMTTYPE=image/jpeg:https://www.chrono.nl/wp-content/uploads/2017/06/tsc_6373.jpg
ORGANIZER;CN="Chrono Karting BV":MAILTO:gaby@chrono.nl
END:VEVENT
BEGIN:VEVENT
DTSTART;TZID=Europe/Paris:20190630T100000
DTEND;TZID=Europe/Paris:20190630T120000
DTSTAMP:20260423T014107
CREATED:20190104T180243Z
LAST-MODIFIED:20190104T180243Z
UID:12775-1561888800-1561896000@www.chrono.nl
SUMMARY:Dutch karting school Beginnersles 6
DESCRIPTION:
URL:https://www.chrono.nl/event/dutch-karting-school-beginnersles-6/
LOCATION:Circuit Park Berghem (NL)\, Zevenbergseweg 45\, Berghem (Oss)\, 5351 PG\, Nederland
CATEGORIES:Dutch Karting School Beginners
ATTACH;FMTTYPE=image/jpeg:https://www.chrono.nl/wp-content/uploads/2017/06/tsc_6245.jpg
ORGANIZER;CN="Chrono Karting BV":MAILTO:gaby@chrono.nl
END:VEVENT
BEGIN:VEVENT
DTSTART;TZID=Europe/Paris:20190616T100000
DTEND;TZID=Europe/Paris:20190616T120000
DTSTAMP:20260423T014107
CREATED:20190104T180149Z
LAST-MODIFIED:20190104T180149Z
UID:12773-1560679200-1560686400@www.chrono.nl
SUMMARY:Dutch karting school Beginnersles 5
DESCRIPTION:
URL:https://www.chrono.nl/event/dutch-karting-school-beginnersles-5/
LOCATION:Circuit Park Berghem (NL)\, Zevenbergseweg 45\, Berghem (Oss)\, 5351 PG\, Nederland
CATEGORIES:Dutch Karting School Beginners
ATTACH;FMTTYPE=image/jpeg:https://www.chrono.nl/wp-content/uploads/2017/06/tsc_6321.jpg
ORGANIZER;CN="Chrono Karting BV":MAILTO:gaby@chrono.nl
END:VEVENT
BEGIN:VEVENT
DTSTART;TZID=Europe/Paris:20190519T100000
DTEND;TZID=Europe/Paris:20190519T120000
DTSTAMP:20260423T014107
CREATED:20190104T180012Z
LAST-MODIFIED:20190104T180012Z
UID:12771-1558260000-1558267200@www.chrono.nl
SUMMARY:Dutch karting school Beginnersles 4
DESCRIPTION:
URL:https://www.chrono.nl/event/dutch-karting-school-beginnersles-4/
LOCATION:Circuit Park Berghem (NL)\, Zevenbergseweg 45\, Berghem (Oss)\, 5351 PG\, Nederland
CATEGORIES:Dutch Karting School Beginners
ATTACH;FMTTYPE=image/jpeg:https://www.chrono.nl/wp-content/uploads/2017/06/tsc_6500.jpg
ORGANIZER;CN="Chrono Karting BV":MAILTO:gaby@chrono.nl
END:VEVENT
BEGIN:VEVENT
DTSTART;TZID=Europe/Paris:20190414T090000
DTEND;TZID=Europe/Paris:20190414T110000
DTSTAMP:20260423T014107
CREATED:20190104T175909Z
LAST-MODIFIED:20190104T175909Z
UID:12769-1555232400-1555239600@www.chrono.nl
SUMMARY:Dutch karting school Beginnersles 3
DESCRIPTION:
URL:https://www.chrono.nl/event/dutch-karting-school-beginnersles-3/
LOCATION:Circuit de Landsard (NL)\, Landsardseweg 47\, Eindhoven\, 5657 AB\, Nederland
CATEGORIES:Dutch Karting School Beginners
ATTACH;FMTTYPE=image/jpeg:https://www.chrono.nl/wp-content/uploads/2017/06/tsc_6205.jpg
ORGANIZER;CN="Chrono Karting BV":MAILTO:gaby@chrono.nl
END:VEVENT
BEGIN:VEVENT
DTSTART;TZID=Europe/Paris:20190331T100000
DTEND;TZID=Europe/Paris:20190331T120000
DTSTAMP:20260423T014107
CREATED:20190104T175811Z
LAST-MODIFIED:20190104T175811Z
UID:12767-1554026400-1554033600@www.chrono.nl
SUMMARY:Dutch karting school Beginnersles 2
DESCRIPTION:
URL:https://www.chrono.nl/event/dutch-karting-school-beginnersles-2/
LOCATION:Circuit Park Berghem (NL)\, Zevenbergseweg 45\, Berghem (Oss)\, 5351 PG\, Nederland
CATEGORIES:Dutch Karting School Beginners
ATTACH;FMTTYPE=image/jpeg:https://www.chrono.nl/wp-content/uploads/2017/06/tsc_6235.jpg
ORGANIZER;CN="Chrono Karting BV":MAILTO:gaby@chrono.nl
END:VEVENT
BEGIN:VEVENT
DTSTART;TZID=Europe/Paris:20190324T090000
DTEND;TZID=Europe/Paris:20190324T110000
DTSTAMP:20260423T014107
CREATED:20190104T175711Z
LAST-MODIFIED:20190104T175711Z
UID:12765-1553418000-1553425200@www.chrono.nl
SUMMARY:Dutch karting school Beginnersles 1
DESCRIPTION:
URL:https://www.chrono.nl/event/dutch-karting-school-beginnersles-1/
LOCATION:Circuit de Landsard (NL)\, Landsardseweg 47\, Eindhoven\, 5657 AB\, Nederland
CATEGORIES:Dutch Karting School Beginners
ATTACH;FMTTYPE=image/jpeg:https://www.chrono.nl/wp-content/uploads/2017/06/tsc_6214.jpg
ORGANIZER;CN="Chrono Karting BV":MAILTO:gaby@chrono.nl
END:VEVENT
BEGIN:VEVENT
DTSTART;TZID=Europe/Paris:20190316T100000
DTEND;TZID=Europe/Paris:20190316T120000
DTSTAMP:20260423T014107
CREATED:20190104T180822Z
LAST-MODIFIED:20190104T180822Z
UID:12783-1552730400-1552737600@www.chrono.nl
SUMMARY:Dutch karting school kennismakingsles
DESCRIPTION:
URL:https://www.chrono.nl/event/dutch-karting-school-kennismakingsles-2/
LOCATION:Circuit Park Berghem (NL)\, Zevenbergseweg 45\, Berghem (Oss)\, 5351 PG\, Nederland
CATEGORIES:Dutch Karting School Beginners
ATTACH;FMTTYPE=image/jpeg:https://www.chrono.nl/wp-content/uploads/2016/12/tsc_4415.jpg
ORGANIZER;CN="Chrono Karting BV":MAILTO:gaby@chrono.nl
END:VEVENT
BEGIN:VEVENT
DTSTART;TZID=Europe/Paris:20180624T110000
DTEND;TZID=Europe/Paris:20180624T130000
DTSTAMP:20260423T014107
CREATED:20171101T135725Z
LAST-MODIFIED:20171101T135725Z
UID:11551-1529838000-1529845200@www.chrono.nl
SUMMARY:Dutch Karting School - kartexamen
DESCRIPTION:
URL:https://www.chrono.nl/event/dutch-karting-school-kartexamen/
LOCATION:Circuit Park Berghem (NL)\, Zevenbergseweg 45\, Berghem (Oss)\, 5351 PG\, Nederland
CATEGORIES:Dutch Karting School Beginners
ATTACH;FMTTYPE=image/jpeg:https://www.chrono.nl/wp-content/uploads/2016/12/tsc_4560.jpg
ORGANIZER;CN="Chrono Karting BV":MAILTO:gaby@chrono.nl
END:VEVENT
BEGIN:VEVENT
DTSTART;TZID=Europe/Paris:20180624T090000
DTEND;TZID=Europe/Paris:20180624T110000
DTSTAMP:20260423T014107
CREATED:20171101T135257Z
LAST-MODIFIED:20171101T135257Z
UID:11549-1529830800-1529838000@www.chrono.nl
SUMMARY:Dutch Karting School - Les 9
DESCRIPTION:
URL:https://www.chrono.nl/event/dutch-karting-school-les-9/
LOCATION:Circuit Park Berghem (NL)\, Zevenbergseweg 45\, Berghem (Oss)\, 5351 PG\, Nederland
CATEGORIES:Dutch Karting School Beginners
ATTACH;FMTTYPE=image/jpeg:https://www.chrono.nl/wp-content/uploads/2017/07/tsc_7968.jpg
ORGANIZER;CN="Chrono Karting BV":MAILTO:gaby@chrono.nl
END:VEVENT
BEGIN:VEVENT
DTSTART;TZID=Europe/Paris:20180603T090000
DTEND;TZID=Europe/Paris:20180603T110000
DTSTAMP:20260423T014107
CREATED:20171101T135133Z
LAST-MODIFIED:20171101T135133Z
UID:11547-1528016400-1528023600@www.chrono.nl
SUMMARY:Dutch Karting School - Les 7
DESCRIPTION:
URL:https://www.chrono.nl/event/dutch-karting-school-les-7/
LOCATION:Circuit de Landsard (NL)\, Landsardseweg 47\, Eindhoven\, 5657 AB\, Nederland
CATEGORIES:Dutch Karting School Beginners
ATTACH;FMTTYPE=image/jpeg:https://www.chrono.nl/wp-content/uploads/2017/10/tsc_9042.jpg
ORGANIZER;CN="Chrono Karting BV":MAILTO:gaby@chrono.nl
END:VEVENT
BEGIN:VEVENT
DTSTART;TZID=Europe/Paris:20180513T090000
DTEND;TZID=Europe/Paris:20180513T110000
DTSTAMP:20260423T014107
CREATED:20171101T135008Z
LAST-MODIFIED:20171101T135008Z
UID:11545-1526202000-1526209200@www.chrono.nl
SUMMARY:Dutch Karting School - Les 6
DESCRIPTION:
URL:https://www.chrono.nl/event/dutch-karting-school-les-6/
LOCATION:Circuit de Landsard (NL)\, Landsardseweg 47\, Eindhoven\, 5657 AB\, Nederland
CATEGORIES:Dutch Karting School Beginners
ATTACH;FMTTYPE=image/jpeg:https://www.chrono.nl/wp-content/uploads/2017/07/tsc_7336.jpg
ORGANIZER;CN="Chrono Karting BV":MAILTO:gaby@chrono.nl
END:VEVENT
BEGIN:VEVENT
DTSTART;TZID=Europe/Paris:20180506T090000
DTEND;TZID=Europe/Paris:20180506T110000
DTSTAMP:20260423T014107
CREATED:20171101T134803Z
LAST-MODIFIED:20171101T134803Z
UID:11543-1525597200-1525604400@www.chrono.nl
SUMMARY:Dutch Karting School - Les 5
DESCRIPTION:
URL:https://www.chrono.nl/event/dutch-karting-school-les-5/
LOCATION:Circuit de Landsard (NL)\, Landsardseweg 47\, Eindhoven\, 5657 AB\, Nederland
CATEGORIES:Dutch Karting School Beginners
ATTACH;FMTTYPE=image/jpeg:https://www.chrono.nl/wp-content/uploads/2016/04/20160403-TSC_1414.jpg
ORGANIZER;CN="Chrono Karting BV":MAILTO:gaby@chrono.nl
END:VEVENT
BEGIN:VEVENT
DTSTART;TZID=Europe/Paris:20180422T090000
DTEND;TZID=Europe/Paris:20180422T110000
DTSTAMP:20260423T014107
CREATED:20171101T134640Z
LAST-MODIFIED:20171101T134640Z
UID:11541-1524387600-1524394800@www.chrono.nl
SUMMARY:Dutch Karting School - Les 4
DESCRIPTION:
URL:https://www.chrono.nl/event/dutch-karting-school-les-4/
LOCATION:Circuit de Landsard (NL)\, Landsardseweg 47\, Eindhoven\, 5657 AB\, Nederland
CATEGORIES:Dutch Karting School Beginners
ATTACH;FMTTYPE=image/jpeg:https://www.chrono.nl/wp-content/uploads/2017/06/tsc_6490.jpg
ORGANIZER;CN="Chrono Karting BV":MAILTO:gaby@chrono.nl
END:VEVENT
BEGIN:VEVENT
DTSTART;TZID=Europe/Paris:20180415T090000
DTEND;TZID=Europe/Paris:20180415T110000
DTSTAMP:20260423T014107
CREATED:20171101T134444Z
LAST-MODIFIED:20180123T133725Z
UID:11539-1523782800-1523790000@www.chrono.nl
SUMMARY:Dutch Karting School - Les 3
DESCRIPTION:
URL:https://www.chrono.nl/event/dutch-karting-school-les-3/
LOCATION:Circuit de Landsard (NL)\, Landsardseweg 47\, Eindhoven\, 5657 AB\, Nederland
CATEGORIES:Dutch Karting School Beginners
ATTACH;FMTTYPE=image/jpeg:https://www.chrono.nl/wp-content/uploads/2016/11/TSC_2185.jpg
ORGANIZER;CN="Chrono Karting BV":MAILTO:gaby@chrono.nl
END:VEVENT
BEGIN:VEVENT
DTSTART;TZID=Europe/Paris:20180401T100000
DTEND;TZID=Europe/Paris:20180401T120000
DTSTAMP:20260423T014107
CREATED:20171101T134328Z
LAST-MODIFIED:20171206T133148Z
UID:11537-1522576800-1522584000@www.chrono.nl
SUMMARY:Dutch Karting School - Les 2
DESCRIPTION:
URL:https://www.chrono.nl/event/dutch-karting-school-les-2/
LOCATION:Circuit Park Berghem (NL)\, Zevenbergseweg 45\, Berghem (Oss)\, 5351 PG\, Nederland
CATEGORIES:Dutch Karting School Beginners
ATTACH;FMTTYPE=image/jpeg:https://www.chrono.nl/wp-content/uploads/2017/06/tsc_6214.jpg
ORGANIZER;CN="Chrono Karting BV":MAILTO:gaby@chrono.nl
END:VEVENT
BEGIN:VEVENT
DTSTART;TZID=Europe/Paris:20180318T100000
DTEND;TZID=Europe/Paris:20180318T120000
DTSTAMP:20260423T014107
CREATED:20171101T134158Z
LAST-MODIFIED:20171101T134158Z
UID:11535-1521367200-1521374400@www.chrono.nl
SUMMARY:Dutch Karting School - Les 1
DESCRIPTION:
URL:https://www.chrono.nl/event/dutch-karting-school-les-1/
LOCATION:Circuit Park Berghem (NL)\, Zevenbergseweg 45\, Berghem (Oss)\, 5351 PG\, Nederland
CATEGORIES:Dutch Karting School Beginners
ATTACH;FMTTYPE=image/jpeg:https://www.chrono.nl/wp-content/uploads/2016/04/20160326-TSC_0909.jpg
ORGANIZER;CN="Chrono Karting BV":MAILTO:gaby@chrono.nl
END:VEVENT
BEGIN:VEVENT
DTSTART;TZID=Europe/Paris:20180225T090000
DTEND;TZID=Europe/Paris:20180225T110000
DTSTAMP:20260423T014107
CREATED:20171101T133919Z
LAST-MODIFIED:20171101T133932Z
UID:11531-1519549200-1519556400@www.chrono.nl
SUMMARY:Dutch Karting School - kennismakingsles
DESCRIPTION:
URL:https://www.chrono.nl/event/dutch-karting-school-kennismakingsles/
LOCATION:Circuit de Landsard (NL)\, Landsardseweg 47\, Eindhoven\, 5657 AB\, Nederland
CATEGORIES:Dutch Karting School Beginners
ATTACH;FMTTYPE=image/jpeg:https://www.chrono.nl/wp-content/uploads/2016/04/20160403-TSC_1062.jpg
ORGANIZER;CN="Chrono Karting BV":MAILTO:gaby@chrono.nl
END:VEVENT
BEGIN:VEVENT
DTSTART;TZID=Europe/Paris:20171015T110000
DTEND;TZID=Europe/Paris:20171015T130000
DTSTAMP:20260423T014107
CREATED:20170104T202850Z
LAST-MODIFIED:20170902T060600Z
UID:9904-1508065200-1508072400@www.chrono.nl
SUMMARY:DKS Les 10 - kart examen - circuit park Berghem
DESCRIPTION:
URL:https://www.chrono.nl/event/dks-les-10-kart-examen-circuit-park-berghem/
LOCATION:Circuit Park Berghem (NL)\, Zevenbergseweg 45\, Berghem (Oss)\, 5351 PG\, Nederland
CATEGORIES:Dutch Karting School Beginners
ATTACH;FMTTYPE=image/jpeg:https://www.chrono.nl/wp-content/uploads/2016/12/tsc_4312.jpg
ORGANIZER;CN="Chrono Karting BV":MAILTO:gaby@chrono.nl
END:VEVENT
BEGIN:VEVENT
DTSTART;TZID=Europe/Paris:20171015T090000
DTEND;TZID=Europe/Paris:20171015T110000
DTSTAMP:20260423T014107
CREATED:20170104T202717Z
LAST-MODIFIED:20170902T060436Z
UID:9902-1508058000-1508065200@www.chrono.nl
SUMMARY:DKS Les 9 - circuit park berghem
DESCRIPTION:
URL:https://www.chrono.nl/event/dks-les-9-circuit-landsard/
LOCATION:Circuit Park Berghem (NL)\, Zevenbergseweg 45\, Berghem (Oss)\, 5351 PG\, Nederland
CATEGORIES:Dutch Karting School Beginners
ATTACH;FMTTYPE=image/jpeg:https://www.chrono.nl/wp-content/uploads/2016/04/20160403-TSC_1065.jpg
ORGANIZER;CN="Chrono Karting BV":MAILTO:gaby@chrono.nl
END:VEVENT
END:VCALENDAR