BEGIN:VCALENDAR
VERSION:2.0
PRODID:-//Chrono Karting - ECPv6.15.17//NONSGML v1.0//EN
CALSCALE:GREGORIAN
METHOD:PUBLISH
X-WR-CALNAME:Chrono Karting
X-ORIGINAL-URL:https://www.chrono.nl
X-WR-CALDESC:Evenementen voor Chrono Karting
REFRESH-INTERVAL;VALUE=DURATION:PT1H
X-Robots-Tag:noindex
X-PUBLISHED-TTL:PT1H
BEGIN:VTIMEZONE
TZID:Europe/Paris
BEGIN:DAYLIGHT
TZOFFSETFROM:+0100
TZOFFSETTO:+0200
TZNAME:CEST
DTSTART:20250330T010000
END:DAYLIGHT
BEGIN:STANDARD
TZOFFSETFROM:+0200
TZOFFSETTO:+0100
TZNAME:CET
DTSTART:20251026T010000
END:STANDARD
BEGIN:DAYLIGHT
TZOFFSETFROM:+0100
TZOFFSETTO:+0200
TZNAME:CEST
DTSTART:20260329T010000
END:DAYLIGHT
BEGIN:STANDARD
TZOFFSETFROM:+0200
TZOFFSETTO:+0100
TZNAME:CET
DTSTART:20261025T010000
END:STANDARD
BEGIN:DAYLIGHT
TZOFFSETFROM:+0100
TZOFFSETTO:+0200
TZNAME:CEST
DTSTART:20270328T010000
END:DAYLIGHT
BEGIN:STANDARD
TZOFFSETFROM:+0200
TZOFFSETTO:+0100
TZNAME:CET
DTSTART:20271031T010000
END:STANDARD
END:VTIMEZONE
BEGIN:VEVENT
DTSTART;TZID=Europe/Paris:20260419T080000
DTEND;TZID=Europe/Paris:20260419T100000
DTSTAMP:20260423T010606
CREATED:20170104T164647Z
LAST-MODIFIED:20260206T135156Z
UID:9835-1776585600-1776592800@www.chrono.nl
SUMMARY:DKS Beginnersles 3
DESCRIPTION:
URL:https://www.chrono.nl/event/dks-les-3-circuit-landsard/
LOCATION:Circuit de Landsard (NL)\, Landsardseweg 47\, Eindhoven\, 5657 AB\, Nederland
CATEGORIES:Dutch Karting School,Dutch Karting School Beginners
ATTACH;FMTTYPE=image/jpeg:https://www.chrono.nl/wp-content/uploads/2016/11/TSC_2336.jpg
ORGANIZER;CN="Chrono Karting BV":MAILTO:gaby@chrono.nl
END:VEVENT
BEGIN:VEVENT
DTSTART;TZID=Europe/Paris:20260426T080000
DTEND;TZID=Europe/Paris:20260426T100000
DTSTAMP:20260423T010606
CREATED:20200204T135358Z
LAST-MODIFIED:20260206T135017Z
UID:14157-1777190400-1777197600@www.chrono.nl
SUMMARY:DKS Beginnersles 4
DESCRIPTION:
URL:https://www.chrono.nl/event/dks-beginnersles-4/
LOCATION:Circuit de Landsard (NL)\, Landsardseweg 47\, Eindhoven\, 5657 AB\, Nederland
CATEGORIES:Dutch Karting School Beginners
ATTACH;FMTTYPE=image/jpeg:https://www.chrono.nl/wp-content/uploads/2017/10/tsc_9008.jpg
ORGANIZER;CN="Chrono Karting BV":MAILTO:gaby@chrono.nl
END:VEVENT
BEGIN:VEVENT
DTSTART;TZID=Europe/Paris:20260524T080000
DTEND;TZID=Europe/Paris:20260524T100000
DTSTAMP:20260423T010606
CREATED:20200204T135910Z
LAST-MODIFIED:20260206T134901Z
UID:14159-1779609600-1779616800@www.chrono.nl
SUMMARY:DKS Beginnersles 5
DESCRIPTION:
URL:https://www.chrono.nl/event/dks-beginnersles-5/
LOCATION:Circuit de Landsard (NL)\, Landsardseweg 47\, Eindhoven\, 5657 AB\, Nederland
CATEGORIES:Dutch Karting School Beginners
ATTACH;FMTTYPE=image/jpeg:https://www.chrono.nl/wp-content/uploads/2016/04/20160403-TSC_1414.jpg
ORGANIZER;CN="Chrono Karting BV":MAILTO:gaby@chrono.nl
END:VEVENT
BEGIN:VEVENT
DTSTART;TZID=Europe/Paris:20260531T080000
DTEND;TZID=Europe/Paris:20260531T100000
DTSTAMP:20260423T010606
CREATED:20200204T140102Z
LAST-MODIFIED:20260206T134821Z
UID:14161-1780214400-1780221600@www.chrono.nl
SUMMARY:DKS Beginnersles 6
DESCRIPTION:
URL:https://www.chrono.nl/event/dks-beginnersles-6/
LOCATION:Circuit de Landsard (NL)\, Landsardseweg 47\, Eindhoven\, 5657 AB\, Nederland
CATEGORIES:Dutch Karting School Beginners
ATTACH;FMTTYPE=image/jpeg:https://www.chrono.nl/wp-content/uploads/2016/04/20160403-TSC_1143.jpg
ORGANIZER;CN="Chrono Karting BV":MAILTO:gaby@chrono.nl
END:VEVENT
BEGIN:VEVENT
DTSTART;TZID=Europe/Paris:20260614T080000
DTEND;TZID=Europe/Paris:20260614T100000
DTSTAMP:20260423T010606
CREATED:20200204T140208Z
LAST-MODIFIED:20260206T134543Z
UID:14163-1781424000-1781431200@www.chrono.nl
SUMMARY:DKS Beginnersles 7
DESCRIPTION:
URL:https://www.chrono.nl/event/dks-beginnersles-7/
LOCATION:Circuit de Landsard (NL)\, Landsardseweg 47\, Eindhoven\, 5657 AB\, Nederland
CATEGORIES:Dutch Karting School Beginners
ATTACH;FMTTYPE=image/jpeg:https://www.chrono.nl/wp-content/uploads/2016/04/20160403-TSC_1153.jpg
ORGANIZER;CN="Chrono Karting BV":MAILTO:gaby@chrono.nl
END:VEVENT
BEGIN:VEVENT
DTSTART;TZID=Europe/Paris:20260621T080000
DTEND;TZID=Europe/Paris:20260621T100000
DTSTAMP:20260423T010606
CREATED:20200204T140259Z
LAST-MODIFIED:20260206T135241Z
UID:14165-1782028800-1782036000@www.chrono.nl
SUMMARY:DKS Beginnersles 8
DESCRIPTION:
URL:https://www.chrono.nl/event/dks-beginnersles-8/
LOCATION:Circuit de Landsard (NL)\, Landsardseweg 47\, Eindhoven\, 5657 AB\, Nederland
CATEGORIES:Dutch Karting School Beginners
ATTACH;FMTTYPE=image/jpeg:https://www.chrono.nl/wp-content/uploads/2016/04/20160403-TSC_1062.jpg
ORGANIZER;CN="Chrono Karting BV":MAILTO:gaby@chrono.nl
END:VEVENT
BEGIN:VEVENT
DTSTART;TZID=Europe/Paris:20260705T080000
DTEND;TZID=Europe/Paris:20260705T100000
DTSTAMP:20260423T010606
CREATED:20200204T140450Z
LAST-MODIFIED:20260206T134659Z
UID:14167-1783238400-1783245600@www.chrono.nl
SUMMARY:DKS Beginnersles 9
DESCRIPTION:
URL:https://www.chrono.nl/event/dks-beginnersles-9/
LOCATION:Circuit de Landsard (NL)\, Landsardseweg 47\, Eindhoven\, 5657 AB\, Nederland
CATEGORIES:Dutch Karting School Beginners
ATTACH;FMTTYPE=image/jpeg:https://www.chrono.nl/wp-content/uploads/2017/07/tsc_7636.jpg
ORGANIZER;CN="Chrono Karting BV":MAILTO:gaby@chrono.nl
END:VEVENT
BEGIN:VEVENT
DTSTART;TZID=Europe/Paris:20260705T100000
DTEND;TZID=Europe/Paris:20260705T120000
DTSTAMP:20260423T010606
CREATED:20200204T140617Z
LAST-MODIFIED:20260206T134619Z
UID:14169-1783245600-1783252800@www.chrono.nl
SUMMARY:DKS Beginnersles 10 = DKS (KNAF) examen
DESCRIPTION:
URL:https://www.chrono.nl/event/dks-beginnersles-10-kartexamen/
LOCATION:Circuit de Landsard (NL)\, Landsardseweg 47\, Eindhoven\, 5657 AB\, Nederland
CATEGORIES:Dutch Karting School Beginners
ATTACH;FMTTYPE=image/jpeg:https://www.chrono.nl/wp-content/uploads/2016/12/tsc_4538.jpg
ORGANIZER;CN="Chrono Karting BV":MAILTO:gaby@chrono.nl
END:VEVENT
END:VCALENDAR