BEGIN:VCALENDAR
VERSION:2.0
PRODID:-//Chrono Karting - ECPv6.15.17//NONSGML v1.0//EN
CALSCALE:GREGORIAN
METHOD:PUBLISH
X-ORIGINAL-URL:https://www.chrono.nl
X-WR-CALDESC:Evenementen voor Chrono Karting
REFRESH-INTERVAL;VALUE=DURATION:PT1H
X-Robots-Tag:noindex
X-PUBLISHED-TTL:PT1H
BEGIN:VTIMEZONE
TZID:Europe/Paris
BEGIN:DAYLIGHT
TZOFFSETFROM:+0100
TZOFFSETTO:+0200
TZNAME:CEST
DTSTART:20200329T010000
END:DAYLIGHT
BEGIN:STANDARD
TZOFFSETFROM:+0200
TZOFFSETTO:+0100
TZNAME:CET
DTSTART:20201025T010000
END:STANDARD
BEGIN:DAYLIGHT
TZOFFSETFROM:+0100
TZOFFSETTO:+0200
TZNAME:CEST
DTSTART:20210328T010000
END:DAYLIGHT
BEGIN:STANDARD
TZOFFSETFROM:+0200
TZOFFSETTO:+0100
TZNAME:CET
DTSTART:20211031T010000
END:STANDARD
BEGIN:DAYLIGHT
TZOFFSETFROM:+0100
TZOFFSETTO:+0200
TZNAME:CEST
DTSTART:20220327T010000
END:DAYLIGHT
BEGIN:STANDARD
TZOFFSETFROM:+0200
TZOFFSETTO:+0100
TZNAME:CET
DTSTART:20221030T010000
END:STANDARD
END:VTIMEZONE
BEGIN:VEVENT
DTSTART;VALUE=DATE:20210502
DTEND;VALUE=DATE:20210503
DTSTAMP:20260422T005710
CREATED:20191213T094614Z
LAST-MODIFIED:20210415T043351Z
UID:13832-1619913600-1619999999@www.chrono.nl
SUMMARY:Nederlands Kampioenschap 2T Karting = BMC
DESCRIPTION:
URL:https://www.chrono.nl/event/nederlands-kampioenschap-2t-karting-2/
LOCATION:Mariembourg\, Rue du Karting (Parc Industriel)\, 13\, Mariembourg\, B-5660\, België
CATEGORIES:2-Takt,NK 2-Takt
ATTACH;FMTTYPE=image/jpeg:https://www.chrono.nl/wp-content/uploads/2019/12/kp052154_19-05-12.jpg
ORGANIZER;CN="BMC":MAILTO:info@kartinggenk.be
END:VEVENT
END:VCALENDAR