BEGIN:VCALENDAR
VERSION:2.0
PRODID:-//Chrono Karting - ECPv6.15.17//NONSGML v1.0//EN
CALSCALE:GREGORIAN
METHOD:PUBLISH
X-WR-CALNAME:Chrono Karting
X-ORIGINAL-URL:https://www.chrono.nl
X-WR-CALDESC:Evenementen voor Chrono Karting
REFRESH-INTERVAL;VALUE=DURATION:PT1H
X-Robots-Tag:noindex
X-PUBLISHED-TTL:PT1H
BEGIN:VTIMEZONE
TZID:Europe/Paris
BEGIN:DAYLIGHT
TZOFFSETFROM:+0100
TZOFFSETTO:+0200
TZNAME:CEST
DTSTART:20250330T010000
END:DAYLIGHT
BEGIN:STANDARD
TZOFFSETFROM:+0200
TZOFFSETTO:+0100
TZNAME:CET
DTSTART:20251026T010000
END:STANDARD
BEGIN:DAYLIGHT
TZOFFSETFROM:+0100
TZOFFSETTO:+0200
TZNAME:CEST
DTSTART:20260329T010000
END:DAYLIGHT
BEGIN:STANDARD
TZOFFSETFROM:+0200
TZOFFSETTO:+0100
TZNAME:CET
DTSTART:20261025T010000
END:STANDARD
BEGIN:DAYLIGHT
TZOFFSETFROM:+0100
TZOFFSETTO:+0200
TZNAME:CEST
DTSTART:20270328T010000
END:DAYLIGHT
BEGIN:STANDARD
TZOFFSETFROM:+0200
TZOFFSETTO:+0100
TZNAME:CET
DTSTART:20271031T010000
END:STANDARD
END:VTIMEZONE
BEGIN:VEVENT
DTSTART;VALUE=DATE:20260314
DTEND;VALUE=DATE:20260316
DTSTAMP:20260423T001805
CREATED:20191212T115946Z
LAST-MODIFIED:20251202T132645Z
UID:13797-1773446400-1773619199@www.chrono.nl
SUMMARY:Nederlands Kampioenschap 4T Karting (1)
DESCRIPTION:
URL:https://www.chrono.nl/event/officieel-nederlands-kampioenschap-4t-karting-2020-4/
LOCATION:Circuit de Landsard (NL)\, Landsardseweg 47\, Eindhoven\, 5657 AB\, Nederland
CATEGORIES:NK 4-Takt
ORGANIZER;CN="Chrono Karting BV":MAILTO:gaby@chrono.nl
END:VEVENT
BEGIN:VEVENT
DTSTART;VALUE=DATE:20260404
DTEND;VALUE=DATE:20260406
DTSTAMP:20260423T001805
CREATED:20191212T115839Z
LAST-MODIFIED:20251202T132728Z
UID:13795-1775260800-1775433599@www.chrono.nl
SUMMARY:Nederlands Kampioenschap 4T Karting (2)
DESCRIPTION:
URL:https://www.chrono.nl/event/officieel-nederlands-kampioenschap-4t-karting-2020-3/
LOCATION:Circuit Park Berghem (NL)\, Zevenbergseweg 45\, Berghem (Oss)\, 5351 PG\, Nederland
CATEGORIES:NK 4-Takt
ORGANIZER;CN="Chrono Karting BV":MAILTO:gaby@chrono.nl
END:VEVENT
BEGIN:VEVENT
DTSTART;VALUE=DATE:20260509
DTEND;VALUE=DATE:20260511
DTSTAMP:20260423T001805
CREATED:20190107T192715Z
LAST-MODIFIED:20251202T133304Z
UID:12811-1778284800-1778457599@www.chrono.nl
SUMMARY:Nederlands Kampioenschap 4T karting (3)
DESCRIPTION:
URL:https://www.chrono.nl/event/officieel-nederlands-kampioenschap-4t-karting-5/
LOCATION:Circuit SHW strijen\, Voorweg 1\, Strijen\, Zuid-Holland\, 3291 KG\, Nederland
CATEGORIES:NK 4-Takt
ORGANIZER;CN="Chrono Karting BV":MAILTO:gaby@chrono.nl
END:VEVENT
BEGIN:VEVENT
DTSTART;VALUE=DATE:20260627
DTEND;VALUE=DATE:20260629
DTSTAMP:20260423T001805
CREATED:20190107T192815Z
LAST-MODIFIED:20251202T132815Z
UID:12813-1782518400-1782691199@www.chrono.nl
SUMMARY:Nederlands Kampioenschap 4T karting (4)
DESCRIPTION:
URL:https://www.chrono.nl/event/officieel-nederlands-kampioenschap-4t-karting-6/
LOCATION:Circuit Erftlandring Kerpen (D)\, Steinheide Kartbahn\, Kerpen\, 50170\, Duitsland
CATEGORIES:NK 4-Takt
ORGANIZER;CN="Chrono Karting BV":MAILTO:gaby@chrono.nl
END:VEVENT
BEGIN:VEVENT
DTSTART;VALUE=DATE:20261010
DTEND;VALUE=DATE:20261012
DTSTAMP:20260423T001805
CREATED:20191212T120128Z
LAST-MODIFIED:20251202T133325Z
UID:13801-1791590400-1791763199@www.chrono.nl
SUMMARY:Nederlands Kampioenschap 4T Karting (5)
DESCRIPTION:
URL:https://www.chrono.nl/event/officieel-nederlands-kampioenschap-4t-karting-2020-6/
LOCATION:Circuit Spa Francorchamps (B)\, Route du Circuit 55\, Stavelot\, 4970\, België
CATEGORIES:NK 4-Takt
ORGANIZER;CN="Chrono Karting BV":MAILTO:gaby@chrono.nl
END:VEVENT
BEGIN:VEVENT
DTSTART;VALUE=DATE:20261114
DTEND;VALUE=DATE:20261116
DTSTAMP:20260423T001805
CREATED:20191212T120043Z
LAST-MODIFIED:20251202T133002Z
UID:13799-1794614400-1794787199@www.chrono.nl
SUMMARY:Nederlands Kampioenschap 4T Karting (6)
DESCRIPTION:
URL:https://www.chrono.nl/event/officieel-nederlands-kampioenschap-4t-karting-2020-5/
LOCATION:Circuit de Landsard (NL)\, Landsardseweg 47\, Eindhoven\, 5657 AB\, Nederland
CATEGORIES:NK 4-Takt
ORGANIZER;CN="Chrono Karting BV":MAILTO:gaby@chrono.nl
END:VEVENT
END:VCALENDAR