BEGIN:VCALENDAR
VERSION:2.0
PRODID:-//Chrono Karting - ECPv6.15.17//NONSGML v1.0//EN
CALSCALE:GREGORIAN
METHOD:PUBLISH
X-WR-CALNAME:Chrono Karting
X-ORIGINAL-URL:https://www.chrono.nl
X-WR-CALDESC:Evenementen voor Chrono Karting
REFRESH-INTERVAL;VALUE=DURATION:PT1H
X-Robots-Tag:noindex
X-PUBLISHED-TTL:PT1H
BEGIN:VTIMEZONE
TZID:Europe/Paris
BEGIN:DAYLIGHT
TZOFFSETFROM:+0100
TZOFFSETTO:+0200
TZNAME:CEST
DTSTART:20170326T010000
END:DAYLIGHT
BEGIN:STANDARD
TZOFFSETFROM:+0200
TZOFFSETTO:+0100
TZNAME:CET
DTSTART:20171029T010000
END:STANDARD
BEGIN:DAYLIGHT
TZOFFSETFROM:+0100
TZOFFSETTO:+0200
TZNAME:CEST
DTSTART:20180325T010000
END:DAYLIGHT
BEGIN:STANDARD
TZOFFSETFROM:+0200
TZOFFSETTO:+0100
TZNAME:CET
DTSTART:20181028T010000
END:STANDARD
BEGIN:DAYLIGHT
TZOFFSETFROM:+0100
TZOFFSETTO:+0200
TZNAME:CEST
DTSTART:20190331T010000
END:DAYLIGHT
BEGIN:STANDARD
TZOFFSETFROM:+0200
TZOFFSETTO:+0100
TZNAME:CET
DTSTART:20191027T010000
END:STANDARD
BEGIN:DAYLIGHT
TZOFFSETFROM:+0100
TZOFFSETTO:+0200
TZNAME:CEST
DTSTART:20200329T010000
END:DAYLIGHT
BEGIN:STANDARD
TZOFFSETFROM:+0200
TZOFFSETTO:+0100
TZNAME:CET
DTSTART:20201025T010000
END:STANDARD
END:VTIMEZONE
BEGIN:VEVENT
DTSTART;VALUE=DATE:20191215
DTEND;VALUE=DATE:20191216
DTSTAMP:20260420T074154
CREATED:20190905T053918Z
LAST-MODIFIED:20190905T053918Z
UID:13657-1576368000-1576454399@www.chrono.nl
SUMMARY:Gevorderde kartles 5
DESCRIPTION:
URL:https://www.chrono.nl/event/gevorderde-kartles-5-2/
LOCATION:Circuit de Landsard (NL)\, Landsardseweg 47\, Eindhoven\, 5657 AB\, Nederland
CATEGORIES:Dutch Karting School Gevorderde
ORGANIZER;CN="Chrono Karting BV":MAILTO:gaby@chrono.nl
END:VEVENT
BEGIN:VEVENT
DTSTART;VALUE=DATE:20191117
DTEND;VALUE=DATE:20191118
DTSTAMP:20260420T074154
CREATED:20190905T053612Z
LAST-MODIFIED:20190905T053612Z
UID:13651-1573948800-1574035199@www.chrono.nl
SUMMARY:Gevorderde kartles 2
DESCRIPTION:
URL:https://www.chrono.nl/event/gevorderde-kartles-2-2/
LOCATION:Circuit de Landsard (NL)\, Landsardseweg 47\, Eindhoven\, 5657 AB\, Nederland
CATEGORIES:Dutch Karting School Gevorderde
ORGANIZER;CN="Chrono Karting BV":MAILTO:gaby@chrono.nl
END:VEVENT
BEGIN:VEVENT
DTSTART;VALUE=DATE:20191110
DTEND;VALUE=DATE:20191111
DTSTAMP:20260420T074154
CREATED:20190905T053515Z
LAST-MODIFIED:20190905T053523Z
UID:13649-1573344000-1573430399@www.chrono.nl
SUMMARY:Gevorderde kartles 1
DESCRIPTION:
URL:https://www.chrono.nl/event/gevorderde-kartles-1-2/
LOCATION:Circuit de Landsard (NL)\, Landsardseweg 47\, Eindhoven\, 5657 AB\, Nederland
CATEGORIES:Dutch Karting School Gevorderde
ORGANIZER;CN="Chrono Karting BV":MAILTO:gaby@chrono.nl
END:VEVENT
BEGIN:VEVENT
DTSTART;TZID=Europe/Paris:20190929T090000
DTEND;TZID=Europe/Paris:20190929T130000
DTSTAMP:20260420T074154
CREATED:20190104T180608Z
LAST-MODIFIED:20190104T180608Z
UID:12781-1569747600-1569762000@www.chrono.nl
SUMMARY:Dutch karting school Beginnersles 9 en examen
DESCRIPTION:
URL:https://www.chrono.nl/event/dutch-karting-school-beginnersles-9-en-examen/
LOCATION:Circuit Park Berghem (NL)\, Zevenbergseweg 45\, Berghem (Oss)\, 5351 PG\, Nederland
CATEGORIES:Dutch Karting School Beginners
ATTACH;FMTTYPE=image/jpeg:https://www.chrono.nl/wp-content/uploads/2016/12/tsc_4490.jpg
ORGANIZER;CN="Chrono Karting BV":MAILTO:gaby@chrono.nl
END:VEVENT
BEGIN:VEVENT
DTSTART;TZID=Europe/Paris:20190915T090000
DTEND;TZID=Europe/Paris:20190915T110000
DTSTAMP:20260420T074154
CREATED:20190104T180449Z
LAST-MODIFIED:20190104T180449Z
UID:12779-1568538000-1568545200@www.chrono.nl
SUMMARY:Dutch karting school Beginnersles 8
DESCRIPTION:
URL:https://www.chrono.nl/event/dutch-karting-school-beginnersles-8/
LOCATION:Circuit de Landsard (NL)\, Landsardseweg 47\, Eindhoven\, 5657 AB\, Nederland
CATEGORIES:Dutch Karting School Beginners
ATTACH;FMTTYPE=image/jpeg:https://www.chrono.nl/wp-content/uploads/2017/06/tsc_6303.jpg
ORGANIZER;CN="Chrono Karting BV":MAILTO:gaby@chrono.nl
END:VEVENT
BEGIN:VEVENT
DTSTART;TZID=Europe/Paris:20190825T100000
DTEND;TZID=Europe/Paris:20190825T120000
DTSTAMP:20260420T074154
CREATED:20190104T180343Z
LAST-MODIFIED:20190104T180343Z
UID:12777-1566727200-1566734400@www.chrono.nl
SUMMARY:Dutch karting school Beginnersles 7
DESCRIPTION:
URL:https://www.chrono.nl/event/dutch-karting-school-beginnersles-7/
LOCATION:Circuit Park Berghem (NL)\, Zevenbergseweg 45\, Berghem (Oss)\, 5351 PG\, Nederland
CATEGORIES:Dutch Karting School Beginners
ATTACH;FMTTYPE=image/jpeg:https://www.chrono.nl/wp-content/uploads/2017/06/tsc_6373.jpg
ORGANIZER;CN="Chrono Karting BV":MAILTO:gaby@chrono.nl
END:VEVENT
BEGIN:VEVENT
DTSTART;VALUE=DATE:20190818
DTEND;VALUE=DATE:20190819
DTSTAMP:20260420T074154
CREATED:20190103T064618Z
LAST-MODIFIED:20190808T114533Z
UID:12750-1566086400-1566172799@www.chrono.nl
SUMMARY:Kampioenschap 2T Karting (6) 2019
DESCRIPTION:
URL:https://www.chrono.nl/event/kampioenschap-2t-karting-2019-6/
LOCATION:Circuit Park Berghem (NL)\, Zevenbergseweg 45\, Berghem (Oss)\, 5351 PG\, Nederland
CATEGORIES:2-Takt
ATTACH;FMTTYPE=image/jpeg:https://www.chrono.nl/wp-content/uploads/2016/11/LogoKPX_4016.jpg
ORGANIZER;CN="Chrono Karting BV":MAILTO:gaby@chrono.nl
END:VEVENT
BEGIN:VEVENT
DTSTART;VALUE=DATE:20190707
DTEND;VALUE=DATE:20190708
DTSTAMP:20260420T074154
CREATED:20190107T192610Z
LAST-MODIFIED:20190107T192923Z
UID:12809-1562457600-1562543999@www.chrono.nl
SUMMARY:Officieel Nederlands Kampioenschap 4T karting
DESCRIPTION:
URL:https://www.chrono.nl/event/officieel-nederlands-kampioenschap-4t-karting-4/
LOCATION:Circuit Venray\, Peelweg 47\, Ysselsteyn\, Limburg\, 5813 AD\, Nederland
CATEGORIES:NK 4-Takt
ATTACH;FMTTYPE=image/jpeg:https://www.chrono.nl/wp-content/uploads/2016/11/LogoIMG_6276.jpg
ORGANIZER;CN="Chrono Karting BV":MAILTO:gaby@chrono.nl
END:VEVENT
BEGIN:VEVENT
DTSTART;TZID=Europe/Paris:20190630T100000
DTEND;TZID=Europe/Paris:20190630T120000
DTSTAMP:20260420T074154
CREATED:20190104T180243Z
LAST-MODIFIED:20190104T180243Z
UID:12775-1561888800-1561896000@www.chrono.nl
SUMMARY:Dutch karting school Beginnersles 6
DESCRIPTION:
URL:https://www.chrono.nl/event/dutch-karting-school-beginnersles-6/
LOCATION:Circuit Park Berghem (NL)\, Zevenbergseweg 45\, Berghem (Oss)\, 5351 PG\, Nederland
CATEGORIES:Dutch Karting School Beginners
ATTACH;FMTTYPE=image/jpeg:https://www.chrono.nl/wp-content/uploads/2017/06/tsc_6245.jpg
ORGANIZER;CN="Chrono Karting BV":MAILTO:gaby@chrono.nl
END:VEVENT
BEGIN:VEVENT
DTSTART;VALUE=DATE:20190623
DTEND;VALUE=DATE:20190624
DTSTAMP:20260420T074154
CREATED:20190103T064519Z
LAST-MODIFIED:20190117T094700Z
UID:12748-1561248000-1561334399@www.chrono.nl
SUMMARY:Kampioenschap 2T Karting (5) 2019
DESCRIPTION:
URL:https://www.chrono.nl/event/kampioenschap-2t-karting-2019-5/
LOCATION:Circuit Erftlandring Kerpen (D)\, Steinheide Kartbahn\, Kerpen\, 50170\, Duitsland
CATEGORIES:NK 2-Takt
ATTACH;FMTTYPE=image/jpeg:https://www.chrono.nl/wp-content/uploads/2017/12/kp063593_17-06-11.jpg
ORGANIZER;CN="Chrono Karting BV":MAILTO:gaby@chrono.nl
END:VEVENT
BEGIN:VEVENT
DTSTART;TZID=Europe/Paris:20190616T100000
DTEND;TZID=Europe/Paris:20190616T120000
DTSTAMP:20260420T074154
CREATED:20190104T180149Z
LAST-MODIFIED:20190104T180149Z
UID:12773-1560679200-1560686400@www.chrono.nl
SUMMARY:Dutch karting school Beginnersles 5
DESCRIPTION:
URL:https://www.chrono.nl/event/dutch-karting-school-beginnersles-5/
LOCATION:Circuit Park Berghem (NL)\, Zevenbergseweg 45\, Berghem (Oss)\, 5351 PG\, Nederland
CATEGORIES:Dutch Karting School Beginners
ATTACH;FMTTYPE=image/jpeg:https://www.chrono.nl/wp-content/uploads/2017/06/tsc_6321.jpg
ORGANIZER;CN="Chrono Karting BV":MAILTO:gaby@chrono.nl
END:VEVENT
BEGIN:VEVENT
DTSTART;VALUE=DATE:20190602
DTEND;VALUE=DATE:20190603
DTSTAMP:20260420T074154
CREATED:20190107T192515Z
LAST-MODIFIED:20190107T192949Z
UID:12807-1559433600-1559519999@www.chrono.nl
SUMMARY:Officieel Nederlands Kampioenschap 4T karting
DESCRIPTION:
URL:https://www.chrono.nl/event/officieel-nederlands-kampioenschap-4t-karting-3/
LOCATION:Junior circuit TT Assen\, De Haar 9\, Assen\, Drenthe\, 9405 TE\, Nederland
CATEGORIES:NK 4-Takt
ATTACH;FMTTYPE=image/jpeg:https://www.chrono.nl/wp-content/uploads/2016/11/LogoIMG_6804.jpg
ORGANIZER;CN="Chrono Karting BV":MAILTO:gaby@chrono.nl
END:VEVENT
BEGIN:VEVENT
DTSTART;VALUE=DATE:20190526
DTEND;VALUE=DATE:20190527
DTSTAMP:20260420T074154
CREATED:20190103T064424Z
LAST-MODIFIED:20190117T094729Z
UID:12746-1558828800-1558915199@www.chrono.nl
SUMMARY:Kampioenschap 2T Karting (4) 2019
DESCRIPTION:
URL:https://www.chrono.nl/event/kampioenschap-2t-karting-2019-4/
LOCATION:Circuit Venray\, Peelweg 47\, Ysselsteyn\, Limburg\, 5813 AD\, Nederland
CATEGORIES:NK 2-Takt
ATTACH;FMTTYPE=image/jpeg:https://www.chrono.nl/wp-content/uploads/2017/10/7c775c4f-a980-4520-ae4e-70409963d16b_17-10-01.jpg
ORGANIZER;CN="Chrono Karting BV":MAILTO:gaby@chrono.nl
END:VEVENT
BEGIN:VEVENT
DTSTART;TZID=Europe/Paris:20190519T100000
DTEND;TZID=Europe/Paris:20190519T120000
DTSTAMP:20260420T074154
CREATED:20190104T180012Z
LAST-MODIFIED:20190104T180012Z
UID:12771-1558260000-1558267200@www.chrono.nl
SUMMARY:Dutch karting school Beginnersles 4
DESCRIPTION:
URL:https://www.chrono.nl/event/dutch-karting-school-beginnersles-4/
LOCATION:Circuit Park Berghem (NL)\, Zevenbergseweg 45\, Berghem (Oss)\, 5351 PG\, Nederland
CATEGORIES:Dutch Karting School Beginners
ATTACH;FMTTYPE=image/jpeg:https://www.chrono.nl/wp-content/uploads/2017/06/tsc_6500.jpg
ORGANIZER;CN="Chrono Karting BV":MAILTO:gaby@chrono.nl
END:VEVENT
BEGIN:VEVENT
DTSTART;VALUE=DATE:20190512
DTEND;VALUE=DATE:20190513
DTSTAMP:20260420T074154
CREATED:20190103T064207Z
LAST-MODIFIED:20190506T121813Z
UID:12741-1557619200-1557705599@www.chrono.nl
SUMMARY:Benefit league 2019
DESCRIPTION:Benefit League 2019 \n2 wedstrijden – 1 kampioenschap \n\nBMC – 12 Mei op circuit mariembourg\nDRMC – 18 augustus op circuit park Berghem\n\nDe punten tellen voor de Dutch Rotax Max Challenge en Dutch Open 2T Serie.\nTevens voor het ticket naar de Rotax Grand Finals 2019 \n 
URL:https://www.chrono.nl/event/kampioenschap-2t-karting-2019-3/
LOCATION:Mariembourg\, Rue du Karting (Parc Industriel)\, 13\, Mariembourg\, B-5660\, België
CATEGORIES:NK 2-Takt
ATTACH;FMTTYPE=image/jpeg:https://www.chrono.nl/wp-content/uploads/2019/05/chrono-benefit-league-vierkant-v2-01.jpg
ORGANIZER;CN="BMC":MAILTO:info@kartinggenk.be
END:VEVENT
BEGIN:VEVENT
DTSTART;VALUE=DATE:20190421
DTEND;VALUE=DATE:20190422
DTSTAMP:20260420T074154
CREATED:20190107T192357Z
LAST-MODIFIED:20190107T193027Z
UID:12804-1555804800-1555891199@www.chrono.nl
SUMMARY:Officieel Nederlands Kampioenschap 4T karting
DESCRIPTION:
URL:https://www.chrono.nl/event/officieel-nederlands-kampioenschap-4t-karting-2/
LOCATION:Circuit Park Berghem (NL)\, Zevenbergseweg 45\, Berghem (Oss)\, 5351 PG\, Nederland
CATEGORIES:NK 4-Takt
ATTACH;FMTTYPE=image/jpeg:https://www.chrono.nl/wp-content/uploads/2016/11/LogoKPX_2705.jpg
ORGANIZER;CN="Chrono Karting BV":MAILTO:gaby@chrono.nl
END:VEVENT
BEGIN:VEVENT
DTSTART;TZID=Europe/Paris:20190414T090000
DTEND;TZID=Europe/Paris:20190414T110000
DTSTAMP:20260420T074154
CREATED:20190104T175909Z
LAST-MODIFIED:20190104T175909Z
UID:12769-1555232400-1555239600@www.chrono.nl
SUMMARY:Dutch karting school Beginnersles 3
DESCRIPTION:
URL:https://www.chrono.nl/event/dutch-karting-school-beginnersles-3/
LOCATION:Circuit de Landsard (NL)\, Landsardseweg 47\, Eindhoven\, 5657 AB\, Nederland
CATEGORIES:Dutch Karting School Beginners
ATTACH;FMTTYPE=image/jpeg:https://www.chrono.nl/wp-content/uploads/2017/06/tsc_6205.jpg
ORGANIZER;CN="Chrono Karting BV":MAILTO:gaby@chrono.nl
END:VEVENT
BEGIN:VEVENT
DTSTART;VALUE=DATE:20190407
DTEND;VALUE=DATE:20190408
DTSTAMP:20260420T074154
CREATED:20190103T063608Z
LAST-MODIFIED:20190117T095144Z
UID:12738-1554595200-1554681599@www.chrono.nl
SUMMARY:Kampioenschap 2T Karting (2) 2019
DESCRIPTION:
URL:https://www.chrono.nl/event/kampioenschap-2t-karting-2019-2/
LOCATION:Circuit Park Berghem (NL)\, Zevenbergseweg 45\, Berghem (Oss)\, 5351 PG\, Nederland
CATEGORIES:NK 2-Takt
ATTACH;FMTTYPE=image/jpeg:https://www.chrono.nl/wp-content/uploads/2017/12/f26b992d-f901-4490-b6ad-bceca8d6dd15_17-09-10.jpg
ORGANIZER;CN="Chrono Karting BV":MAILTO:gaby@chrono.nl
END:VEVENT
BEGIN:VEVENT
DTSTART;TZID=Europe/Paris:20190331T100000
DTEND;TZID=Europe/Paris:20190331T120000
DTSTAMP:20260420T074154
CREATED:20190104T175811Z
LAST-MODIFIED:20190104T175811Z
UID:12767-1554026400-1554033600@www.chrono.nl
SUMMARY:Dutch karting school Beginnersles 2
DESCRIPTION:
URL:https://www.chrono.nl/event/dutch-karting-school-beginnersles-2/
LOCATION:Circuit Park Berghem (NL)\, Zevenbergseweg 45\, Berghem (Oss)\, 5351 PG\, Nederland
CATEGORIES:Dutch Karting School Beginners
ATTACH;FMTTYPE=image/jpeg:https://www.chrono.nl/wp-content/uploads/2017/06/tsc_6235.jpg
ORGANIZER;CN="Chrono Karting BV":MAILTO:gaby@chrono.nl
END:VEVENT
BEGIN:VEVENT
DTSTART;TZID=Europe/Paris:20190324T090000
DTEND;TZID=Europe/Paris:20190324T110000
DTSTAMP:20260420T074154
CREATED:20190104T175711Z
LAST-MODIFIED:20190104T175711Z
UID:12765-1553418000-1553425200@www.chrono.nl
SUMMARY:Dutch karting school Beginnersles 1
DESCRIPTION:
URL:https://www.chrono.nl/event/dutch-karting-school-beginnersles-1/
LOCATION:Circuit de Landsard (NL)\, Landsardseweg 47\, Eindhoven\, 5657 AB\, Nederland
CATEGORIES:Dutch Karting School Beginners
ATTACH;FMTTYPE=image/jpeg:https://www.chrono.nl/wp-content/uploads/2017/06/tsc_6214.jpg
ORGANIZER;CN="Chrono Karting BV":MAILTO:gaby@chrono.nl
END:VEVENT
BEGIN:VEVENT
DTSTART;TZID=Europe/Paris:20190316T100000
DTEND;TZID=Europe/Paris:20190316T120000
DTSTAMP:20260420T074154
CREATED:20190104T180822Z
LAST-MODIFIED:20190104T180822Z
UID:12783-1552730400-1552737600@www.chrono.nl
SUMMARY:Dutch karting school kennismakingsles
DESCRIPTION:
URL:https://www.chrono.nl/event/dutch-karting-school-kennismakingsles-2/
LOCATION:Circuit Park Berghem (NL)\, Zevenbergseweg 45\, Berghem (Oss)\, 5351 PG\, Nederland
CATEGORIES:Dutch Karting School Beginners
ATTACH;FMTTYPE=image/jpeg:https://www.chrono.nl/wp-content/uploads/2016/12/tsc_4415.jpg
ORGANIZER;CN="Chrono Karting BV":MAILTO:gaby@chrono.nl
END:VEVENT
BEGIN:VEVENT
DTSTART;VALUE=DATE:20190309
DTEND;VALUE=DATE:20190311
DTSTAMP:20260420T074154
CREATED:20190107T194105Z
LAST-MODIFIED:20190107T194105Z
UID:12801-1552089600-1552262399@www.chrono.nl
SUMMARY:Officieel Nederlands Kampioenschap 4t Karting
DESCRIPTION:
URL:https://www.chrono.nl/event/officieel-nederlands-kampioenschap-4t-karting-7/
LOCATION:Kartcentrum Lelystad\, Talingweg 89\, Lelystad\, 8218 NX
END:VEVENT
BEGIN:VEVENT
DTSTART;VALUE=DATE:20190309
DTEND;VALUE=DATE:20190311
DTSTAMP:20260420T074154
CREATED:20190107T192307Z
LAST-MODIFIED:20190107T192307Z
UID:12802-1552089600-1552262399@www.chrono.nl
SUMMARY:Officieel Nederlands Kampioenschap 4T karting
DESCRIPTION:
URL:https://www.chrono.nl/event/officieel-nederlands-kampioenschap-4t-karting/
LOCATION:Kartcentrum Lelystad\, Talingweg 89\, Lelystad\, 8218 NX
CATEGORIES:NK 4-Takt
ATTACH;FMTTYPE=image/jpeg:https://www.chrono.nl/wp-content/uploads/2016/11/LogoKPX_2572.jpg
ORGANIZER;CN="Chrono Karting BV":MAILTO:gaby@chrono.nl
END:VEVENT
BEGIN:VEVENT
DTSTART;VALUE=DATE:20190303
DTEND;VALUE=DATE:20190304
DTSTAMP:20260420T074154
CREATED:20190103T063450Z
LAST-MODIFIED:20190117T095225Z
UID:12736-1551571200-1551657599@www.chrono.nl
SUMMARY:Kampioenschap 2T Karting (1) 2019
DESCRIPTION:
URL:https://www.chrono.nl/event/kampioenschap-2t-karting-2019/
LOCATION:Circuit Horensbergdam Genk (B)\, damstraat 1\, Genk\, 3600\, België
CATEGORIES:NK 2-Takt
ATTACH;FMTTYPE=image/jpeg:https://www.chrono.nl/wp-content/uploads/2017/10/6e973b68-1747-4c52-9ced-545ddc3d8c0d_17-10-01.jpg
ORGANIZER;CN="Chrono Karting BV":MAILTO:gaby@chrono.nl
END:VEVENT
BEGIN:VEVENT
DTSTART;VALUE=DATE:20190210
DTEND;VALUE=DATE:20190211
DTSTAMP:20260420T074154
CREATED:20181108T085730Z
LAST-MODIFIED:20181108T085827Z
UID:12672-1549756800-1549843199@www.chrono.nl
SUMMARY:Open Winter 2T Serie 2019
DESCRIPTION:Klassen: \n\nMicromax\nMinimax\nMax junior\nMax senior\nKZ2\nKZ2 +\n\nKosten: Eur 150\,00 per wedstrijd\nBij betaling van beide wedstrijden in 1x Eur 50\,00 korting
URL:https://www.chrono.nl/event/open-winter-2t-serie-2019-2/
LOCATION:Circuit Park Berghem (NL)\, Zevenbergseweg 45\, Berghem (Oss)\, 5351 PG\, Nederland
CATEGORIES:2-Takt Winter
ATTACH;FMTTYPE=image/jpeg:https://www.chrono.nl/wp-content/uploads/2018/11/flyer-open-winter-2t-serie-2019.jpg
END:VEVENT
BEGIN:VEVENT
DTSTART;VALUE=DATE:20190120
DTEND;VALUE=DATE:20190121
DTSTAMP:20260420T074154
CREATED:20170901T155537Z
LAST-MODIFIED:20181221T072023Z
UID:11249-1547942400-1548028799@www.chrono.nl
SUMMARY:verzet Gevorderde kartles 5 / circuit de Landsard
DESCRIPTION:
URL:https://www.chrono.nl/event/gevorderde-kartles-5/
LOCATION:Circuit de Landsard (NL)\, Landsardseweg 47\, Eindhoven\, 5657 AB\, Nederland
CATEGORIES:Dutch Karting School,Dutch Karting School Gevorderde
ORGANIZER;CN="Chrono Karting BV":MAILTO:gaby@chrono.nl
END:VEVENT
BEGIN:VEVENT
DTSTART;VALUE=DATE:20190113
DTEND;VALUE=DATE:20190114
DTSTAMP:20260420T074154
CREATED:20181108T085604Z
LAST-MODIFIED:20181108T085636Z
UID:12669-1547337600-1547423999@www.chrono.nl
SUMMARY:Open Winter 2T Serie 2019
DESCRIPTION:Klassen: \n\nMicromax\nMinimax\nMax junior\nMax senior\nKZ2\nKZ2 +\n\nKosten: Eur 150\,00 per wedstrijd\nBij betaling van beide wedstrijden in 1x Eur 50\,00 korting
URL:https://www.chrono.nl/event/open-winter-2t-serie-2019/
LOCATION:Circuit Erftlandring Kerpen (D)\, Steinheide Kartbahn\, Kerpen\, 50170\, Duitsland
CATEGORIES:2-Takt Winter
ATTACH;FMTTYPE=image/jpeg:https://www.chrono.nl/wp-content/uploads/2018/11/flyer-open-winter-2t-serie-2019.jpg
END:VEVENT
BEGIN:VEVENT
DTSTART;VALUE=DATE:20181209
DTEND;VALUE=DATE:20181210
DTSTAMP:20260420T074154
CREATED:20170901T155441Z
LAST-MODIFIED:20180202T121715Z
UID:11247-1544313600-1544399999@www.chrono.nl
SUMMARY:Gevorderde kartles 4 / Circuit park Berghem
DESCRIPTION:
URL:https://www.chrono.nl/event/gevorderde-kartles-4/
LOCATION:Circuit Park Berghem (NL)\, Zevenbergseweg 45\, Berghem (Oss)\, 5351 PG\, Nederland
CATEGORIES:Dutch Karting School Gevorderde
ORGANIZER;CN="Chrono Karting BV":MAILTO:gaby@chrono.nl
END:VEVENT
BEGIN:VEVENT
DTSTART;VALUE=DATE:20181118
DTEND;VALUE=DATE:20181119
DTSTAMP:20260420T074154
CREATED:20171212T164634Z
LAST-MODIFIED:20180303T131814Z
UID:11716-1542499200-1542585599@www.chrono.nl
SUMMARY:Nederlands Kampioenschap 4T Karting 2018 - 1
DESCRIPTION:
URL:https://www.chrono.nl/event/nederlands-kampioenschap-4t-karting-2018-1/
LOCATION:Circuit de Landsard (NL)\, Landsardseweg 47\, Eindhoven\, 5657 AB\, Nederland
CATEGORIES:NK 4-Takt
ATTACH;FMTTYPE=image/jpeg:https://www.chrono.nl/wp-content/uploads/2016/11/LogoIMG_6443.jpg
ORGANIZER;CN="Chrono Karting BV":MAILTO:gaby@chrono.nl
END:VEVENT
BEGIN:VEVENT
DTSTART;VALUE=DATE:20181111
DTEND;VALUE=DATE:20181112
DTSTAMP:20260420T074155
CREATED:20161104T102833Z
LAST-MODIFIED:20180202T121811Z
UID:8743-1541894400-1541980799@www.chrono.nl
SUMMARY:Gevorderde kartles 3 / Circuit park Berghem
DESCRIPTION:[mk_page_section][vc_column width=”1/4″][mk_button size=”medium” url=”https://www.chrono.nl/inschrijfformulier/” align=”center”]Inschrijven[/mk_button][/vc_column][vc_column width=”1/4″][vc_column_text]Aanvang: 10:00 tot 17:00[/vc_column_text][/vc_column][vc_column width=”1/4″][/vc_column][vc_column width=”1/4″][/vc_column][/mk_page_section]
URL:https://www.chrono.nl/event/gevorderde-cursus-les-3/
LOCATION:Circuit Park Berghem (NL)\, Zevenbergseweg 45\, Berghem (Oss)\, 5351 PG\, Nederland
CATEGORIES:Dutch Karting School,Dutch Karting School Gevorderde
ATTACH;FMTTYPE=image/jpeg:https://www.chrono.nl/wp-content/uploads/2016/11/banner4.jpg
ORGANIZER;CN="Chrono Karting BV":MAILTO:gaby@chrono.nl
END:VEVENT
END:VCALENDAR