BEGIN:VCALENDAR
VERSION:2.0
PRODID:-//Chrono Karting - ECPv6.15.17//NONSGML v1.0//EN
CALSCALE:GREGORIAN
METHOD:PUBLISH
X-WR-CALNAME:Chrono Karting
X-ORIGINAL-URL:https://www.chrono.nl
X-WR-CALDESC:Evenementen voor Chrono Karting
REFRESH-INTERVAL;VALUE=DURATION:PT1H
X-Robots-Tag:noindex
X-PUBLISHED-TTL:PT1H
BEGIN:VTIMEZONE
TZID:Europe/Paris
BEGIN:DAYLIGHT
TZOFFSETFROM:+0100
TZOFFSETTO:+0200
TZNAME:CEST
DTSTART:20160327T010000
END:DAYLIGHT
BEGIN:STANDARD
TZOFFSETFROM:+0200
TZOFFSETTO:+0100
TZNAME:CET
DTSTART:20161030T010000
END:STANDARD
BEGIN:DAYLIGHT
TZOFFSETFROM:+0100
TZOFFSETTO:+0200
TZNAME:CEST
DTSTART:20170326T010000
END:DAYLIGHT
BEGIN:STANDARD
TZOFFSETFROM:+0200
TZOFFSETTO:+0100
TZNAME:CET
DTSTART:20171029T010000
END:STANDARD
BEGIN:DAYLIGHT
TZOFFSETFROM:+0100
TZOFFSETTO:+0200
TZNAME:CEST
DTSTART:20180325T010000
END:DAYLIGHT
BEGIN:STANDARD
TZOFFSETFROM:+0200
TZOFFSETTO:+0100
TZNAME:CET
DTSTART:20181028T010000
END:STANDARD
BEGIN:DAYLIGHT
TZOFFSETFROM:+0100
TZOFFSETTO:+0200
TZNAME:CEST
DTSTART:20190331T010000
END:DAYLIGHT
BEGIN:STANDARD
TZOFFSETFROM:+0200
TZOFFSETTO:+0100
TZNAME:CET
DTSTART:20191027T010000
END:STANDARD
END:VTIMEZONE
BEGIN:VEVENT
DTSTART;VALUE=DATE:20180408
DTEND;VALUE=DATE:20180409
DTSTAMP:20260420T041541
CREATED:20171212T164842Z
LAST-MODIFIED:20171212T164842Z
UID:11718-1523145600-1523231999@www.chrono.nl
SUMMARY:Nederlands Kampioenschap 4T Karting 2018 - 2
DESCRIPTION:
URL:https://www.chrono.nl/event/nederlands-kampioenschap-4t-karting-2018-2/
LOCATION:Circuit Park Berghem (NL)\, Zevenbergseweg 45\, Berghem (Oss)\, 5351 PG\, Nederland
CATEGORIES:NK 4-Takt
ATTACH;FMTTYPE=image/jpeg:https://www.chrono.nl/wp-content/uploads/2016/11/LogoIMG_6804.jpg
ORGANIZER;CN="Chrono Karting BV":MAILTO:gaby@chrono.nl
END:VEVENT
BEGIN:VEVENT
DTSTART;VALUE=DATE:20180407
DTEND;VALUE=DATE:20180408
DTSTAMP:20260420T041541
CREATED:20180111T134007Z
LAST-MODIFIED:20180111T134203Z
UID:11860-1523059200-1523145599@www.chrono.nl
SUMMARY:Rotax Open 2h Endurance Series 1
DESCRIPTION:
URL:https://www.chrono.nl/event/rotax-open-2h-endurance-series-1/
LOCATION:Circuit Park Berghem (NL)\, Zevenbergseweg 45\, Berghem (Oss)\, 5351 PG\, Nederland
CATEGORIES:2 uurs Rotax Endurance
ATTACH;FMTTYPE=image/jpeg:https://www.chrono.nl/wp-content/uploads/2018/01/logo-rotax-endurance.jpg
ORGANIZER;CN="Chrono Karting BV":MAILTO:gaby@chrono.nl
END:VEVENT
BEGIN:VEVENT
DTSTART;TZID=Europe/Paris:20180401T100000
DTEND;TZID=Europe/Paris:20180401T120000
DTSTAMP:20260420T041541
CREATED:20171101T134328Z
LAST-MODIFIED:20171206T133148Z
UID:11537-1522576800-1522584000@www.chrono.nl
SUMMARY:Dutch Karting School - Les 2
DESCRIPTION:
URL:https://www.chrono.nl/event/dutch-karting-school-les-2/
LOCATION:Circuit Park Berghem (NL)\, Zevenbergseweg 45\, Berghem (Oss)\, 5351 PG\, Nederland
CATEGORIES:Dutch Karting School Beginners
ATTACH;FMTTYPE=image/jpeg:https://www.chrono.nl/wp-content/uploads/2017/06/tsc_6214.jpg
ORGANIZER;CN="Chrono Karting BV":MAILTO:gaby@chrono.nl
END:VEVENT
BEGIN:VEVENT
DTSTART;VALUE=DATE:20180324
DTEND;VALUE=DATE:20180326
DTSTAMP:20260420T041541
CREATED:20171201T170654Z
LAST-MODIFIED:20171201T170724Z
UID:11628-1521849600-1522022399@www.chrono.nl
SUMMARY:Officieel Nederlands Kampioenschap 2T Karting 2018 - 1
DESCRIPTION:
URL:https://www.chrono.nl/event/11628/
LOCATION:Circuit Horensbergdam Genk (B)\, damstraat 1\, Genk\, 3600\, België
CATEGORIES:NK 2-Takt
ATTACH;FMTTYPE=image/jpeg:https://www.chrono.nl/wp-content/uploads/2016/11/LogoKPX_1480.jpg
ORGANIZER;CN="Chrono Karting BV":MAILTO:gaby@chrono.nl
END:VEVENT
BEGIN:VEVENT
DTSTART;TZID=Europe/Paris:20180318T100000
DTEND;TZID=Europe/Paris:20180318T120000
DTSTAMP:20260420T041541
CREATED:20171101T134158Z
LAST-MODIFIED:20171101T134158Z
UID:11535-1521367200-1521374400@www.chrono.nl
SUMMARY:Dutch Karting School - Les 1
DESCRIPTION:
URL:https://www.chrono.nl/event/dutch-karting-school-les-1/
LOCATION:Circuit Park Berghem (NL)\, Zevenbergseweg 45\, Berghem (Oss)\, 5351 PG\, Nederland
CATEGORIES:Dutch Karting School Beginners
ATTACH;FMTTYPE=image/jpeg:https://www.chrono.nl/wp-content/uploads/2016/04/20160326-TSC_0909.jpg
ORGANIZER;CN="Chrono Karting BV":MAILTO:gaby@chrono.nl
END:VEVENT
BEGIN:VEVENT
DTSTART;VALUE=DATE:20180311
DTEND;VALUE=DATE:20180312
DTSTAMP:20260420T041541
CREATED:20171023T091704Z
LAST-MODIFIED:20171028T065459Z
UID:11505-1520726400-1520812799@www.chrono.nl
SUMMARY:Open winter 2T serie -2
DESCRIPTION:
URL:https://www.chrono.nl/event/open-winter-2t-serie-2/
LOCATION:Circuit Park Berghem (NL)\, Zevenbergseweg 45\, Berghem (Oss)\, 5351 PG\, Nederland
CATEGORIES:2-Takt Winter
ATTACH;FMTTYPE=image/jpeg:https://www.chrono.nl/wp-content/uploads/2016/11/LogoKPX_1480.jpg
ORGANIZER;CN="Chrono Karting BV":MAILTO:gaby@chrono.nl
END:VEVENT
BEGIN:VEVENT
DTSTART;TZID=Europe/Paris:20180225T090000
DTEND;TZID=Europe/Paris:20180225T110000
DTSTAMP:20260420T041541
CREATED:20171101T133919Z
LAST-MODIFIED:20171101T133932Z
UID:11531-1519549200-1519556400@www.chrono.nl
SUMMARY:Dutch Karting School - kennismakingsles
DESCRIPTION:
URL:https://www.chrono.nl/event/dutch-karting-school-kennismakingsles/
LOCATION:Circuit de Landsard (NL)\, Landsardseweg 47\, Eindhoven\, 5657 AB\, Nederland
CATEGORIES:Dutch Karting School Beginners
ATTACH;FMTTYPE=image/jpeg:https://www.chrono.nl/wp-content/uploads/2016/04/20160403-TSC_1062.jpg
ORGANIZER;CN="Chrono Karting BV":MAILTO:gaby@chrono.nl
END:VEVENT
BEGIN:VEVENT
DTSTART;VALUE=DATE:20180204
DTEND;VALUE=DATE:20180205
DTSTAMP:20260420T041541
CREATED:20161104T102422Z
LAST-MODIFIED:20180202T122802Z
UID:8738-1517702400-1517788799@www.chrono.nl
SUMMARY:Gevorderde kartles 5 / circuit de Landsard
DESCRIPTION:[mk_page_section][vc_column width=”1/4″][mk_button size=”medium” url=”https://www.chrono.nl/inschrijfformulier/” align=”center”]Inschrijven[/mk_button][/vc_column][vc_column width=”1/4″][vc_column_text]Aanvang: 10:00 tot 17:00[/vc_column_text][/vc_column][vc_column width=”1/4″][/vc_column][vc_column width=”1/4″][/vc_column][/mk_page_section]
URL:https://www.chrono.nl/event/gevorderde-cursus-les-2/
LOCATION:Circuit de Landsard (NL)\, Landsardseweg 47\, Eindhoven\, 5657 AB\, Nederland
CATEGORIES:Dutch Karting School,Dutch Karting School Gevorderde
ATTACH;FMTTYPE=image/jpeg:https://www.chrono.nl/wp-content/uploads/2016/11/banner3.jpg
ORGANIZER;CN="Chrono Karting BV":MAILTO:gaby@chrono.nl
END:VEVENT
BEGIN:VEVENT
DTSTART;VALUE=DATE:20180107
DTEND;VALUE=DATE:20180108
DTSTAMP:20260420T041541
CREATED:20170901T155341Z
LAST-MODIFIED:20171212T125515Z
UID:11245-1515283200-1515369599@www.chrono.nl
SUMMARY:Gevorderde kartles 3 - Circuit park Berghem
DESCRIPTION:
URL:https://www.chrono.nl/event/gevorderde-kartles-3/
LOCATION:Circuit Park Berghem (NL)\, Zevenbergseweg 45\, Berghem (Oss)\, 5351 PG\, Nederland
CATEGORIES:Dutch Karting School Gevorderde
ORGANIZER;CN="Chrono Karting BV":MAILTO:gaby@chrono.nl
END:VEVENT
BEGIN:VEVENT
DTSTART;VALUE=DATE:20171217
DTEND;VALUE=DATE:20171218
DTSTAMP:20260420T041541
CREATED:20171023T091424Z
LAST-MODIFIED:20171023T091753Z
UID:11501-1513468800-1513555199@www.chrono.nl
SUMMARY:Open winter 2T serie -1
DESCRIPTION:
URL:https://www.chrono.nl/event/open-winter-2t-serie/
LOCATION:Circuit Erftlandring Kerpen (D)\, Steinheide Kartbahn\, Kerpen\, 50170\, Duitsland
CATEGORIES:2-Takt Winter
ATTACH;FMTTYPE=image/jpeg:https://www.chrono.nl/wp-content/uploads/2016/11/LogoKPX_3883.jpg
ORGANIZER;CN="Chrono Karting BV":MAILTO:gaby@chrono.nl
END:VEVENT
BEGIN:VEVENT
DTSTART;VALUE=DATE:20171126
DTEND;VALUE=DATE:20171127
DTSTAMP:20260420T041541
CREATED:20170901T155151Z
LAST-MODIFIED:20170902T060726Z
UID:11241-1511654400-1511740799@www.chrono.nl
SUMMARY:Gevorderde kartles 1 - circuit de Landsard
DESCRIPTION:
URL:https://www.chrono.nl/event/gevorderde-kartles-1/
LOCATION:Circuit de Landsard (NL)\, Landsardseweg 47\, Eindhoven\, 5657 AB\, Nederland
CATEGORIES:Dutch Karting School Gevorderde
ORGANIZER;CN="Chrono Karting BV":MAILTO:gaby@chrono.nl
END:VEVENT
BEGIN:VEVENT
DTSTART;TZID=Europe/Paris:20171015T110000
DTEND;TZID=Europe/Paris:20171015T130000
DTSTAMP:20260420T041541
CREATED:20170104T202850Z
LAST-MODIFIED:20170902T060600Z
UID:9904-1508065200-1508072400@www.chrono.nl
SUMMARY:DKS Les 10 - kart examen - circuit park Berghem
DESCRIPTION:
URL:https://www.chrono.nl/event/dks-les-10-kart-examen-circuit-park-berghem/
LOCATION:Circuit Park Berghem (NL)\, Zevenbergseweg 45\, Berghem (Oss)\, 5351 PG\, Nederland
CATEGORIES:Dutch Karting School Beginners
ATTACH;FMTTYPE=image/jpeg:https://www.chrono.nl/wp-content/uploads/2016/12/tsc_4312.jpg
ORGANIZER;CN="Chrono Karting BV":MAILTO:gaby@chrono.nl
END:VEVENT
BEGIN:VEVENT
DTSTART;TZID=Europe/Paris:20171015T090000
DTEND;TZID=Europe/Paris:20171015T110000
DTSTAMP:20260420T041541
CREATED:20170104T202717Z
LAST-MODIFIED:20170902T060436Z
UID:9902-1508058000-1508065200@www.chrono.nl
SUMMARY:DKS Les 9 - circuit park berghem
DESCRIPTION:
URL:https://www.chrono.nl/event/dks-les-9-circuit-landsard/
LOCATION:Circuit Park Berghem (NL)\, Zevenbergseweg 45\, Berghem (Oss)\, 5351 PG\, Nederland
CATEGORIES:Dutch Karting School Beginners
ATTACH;FMTTYPE=image/jpeg:https://www.chrono.nl/wp-content/uploads/2016/04/20160403-TSC_1065.jpg
ORGANIZER;CN="Chrono Karting BV":MAILTO:gaby@chrono.nl
END:VEVENT
BEGIN:VEVENT
DTSTART;VALUE=DATE:20171007
DTEND;VALUE=DATE:20171009
DTSTAMP:20260420T041541
CREATED:20170104T133235Z
LAST-MODIFIED:20170114T091640Z
UID:9755-1507334400-1507507199@www.chrono.nl
SUMMARY:NK 4-T karting te circuit Erftlandring Kerpen
DESCRIPTION:
URL:https://www.chrono.nl/event/nk-4t-karting-circuit-erftlandring-kerpen/
LOCATION:Circuit Erftlandring Kerpen (D)\, Steinheide Kartbahn\, Kerpen\, 50170\, Duitsland
CATEGORIES:NK 4-Takt
ATTACH;FMTTYPE=image/jpeg:https://www.chrono.nl/wp-content/uploads/2016/11/LogoKPX_2572.jpg
ORGANIZER;CN="Chrono Karting BV":MAILTO:gaby@chrono.nl
END:VEVENT
BEGIN:VEVENT
DTSTART;VALUE=DATE:20170930
DTEND;VALUE=DATE:20171002
DTSTAMP:20260420T041541
CREATED:20170104T141452Z
LAST-MODIFIED:20170104T141452Z
UID:9799-1506729600-1506902399@www.chrono.nl
SUMMARY:NK 2-Takt karting te circuit Horensbergdam Genk
DESCRIPTION:
URL:https://www.chrono.nl/event/nk-2-takt-karting-circuit-horensbergdam-genk/
LOCATION:Circuit Horensbergdam Genk (B)\, damstraat 1\, Genk\, 3600\, België
CATEGORIES:NK 2-Takt
ATTACH;FMTTYPE=image/jpeg:https://www.chrono.nl/wp-content/uploads/2016/11/LogoKP010577.jpg
ORGANIZER;CN="Chrono Karting BV":MAILTO:gaby@chrono.nl
END:VEVENT
BEGIN:VEVENT
DTSTART;TZID=Europe/Paris:20170917T100000
DTEND;TZID=Europe/Paris:20170917T120000
DTSTAMP:20260420T041541
CREATED:20170104T202530Z
LAST-MODIFIED:20170104T202530Z
UID:9900-1505642400-1505649600@www.chrono.nl
SUMMARY:DKS Les 8 - circuit park Berghem
DESCRIPTION:
URL:https://www.chrono.nl/event/dks-les-8-circuit-park-berghem/
LOCATION:Circuit Park Berghem (NL)\, Zevenbergseweg 45\, Berghem (Oss)\, 5351 PG\, Nederland
CATEGORIES:Dutch Karting School Beginners
ATTACH;FMTTYPE=image/jpeg:https://www.chrono.nl/wp-content/uploads/2016/04/20160403-TSC_1153.jpg
ORGANIZER;CN="Chrono Karting BV":MAILTO:gaby@chrono.nl
END:VEVENT
BEGIN:VEVENT
DTSTART;VALUE=DATE:20170909
DTEND;VALUE=DATE:20170911
DTSTAMP:20260420T041541
CREATED:20170104T141314Z
LAST-MODIFIED:20170104T141314Z
UID:9797-1504915200-1505087999@www.chrono.nl
SUMMARY:NK 2-Takt karting te circuit park Berghem
DESCRIPTION:
URL:https://www.chrono.nl/event/nk-2-takt-karting-circuit-park-berghem-2/
LOCATION:Circuit Park Berghem (NL)\, Zevenbergseweg 45\, Berghem (Oss)\, 5351 PG\, Nederland
CATEGORIES:NK 2-Takt
ATTACH;FMTTYPE=image/jpeg:https://www.chrono.nl/wp-content/uploads/2016/11/LogoKPX_0207.jpg
ORGANIZER;CN="Chrono Karting BV":MAILTO:gaby@chrono.nl
END:VEVENT
BEGIN:VEVENT
DTSTART;TZID=Europe/Paris:20170903T100000
DTEND;TZID=Europe/Paris:20170903T120000
DTSTAMP:20260420T041541
CREATED:20170104T202419Z
LAST-MODIFIED:20170901T190607Z
UID:9898-1504432800-1504440000@www.chrono.nl
SUMMARY:DKS Les 7 - Circuit Park Berghem
DESCRIPTION:
URL:https://www.chrono.nl/event/dks-les-7-circuit-park-berghem/
LOCATION:Circuit Park Berghem (NL)\, Zevenbergseweg 45\, Berghem (Oss)\, 5351 PG\, Nederland
CATEGORIES:Dutch Karting School Beginners
ATTACH;FMTTYPE=image/jpeg:https://www.chrono.nl/wp-content/uploads/2016/04/20160326-TSC_0435.jpg
ORGANIZER;CN="Chrono Karting BV":MAILTO:gaby@chrono.nl
END:VEVENT
BEGIN:VEVENT
DTSTART;VALUE=DATE:20170826
DTEND;VALUE=DATE:20170828
DTSTAMP:20260420T041541
CREATED:20170104T133115Z
LAST-MODIFIED:20170104T133756Z
UID:9753-1503705600-1503878399@www.chrono.nl
SUMMARY:NK 4-T karting te circuit park Berghem
DESCRIPTION:
URL:https://www.chrono.nl/event/nk-4t-karting-circuit-park-berghem/
LOCATION:Circuit Park Berghem (NL)\, Zevenbergseweg 45\, Berghem (Oss)\, 5351 PG\, Nederland
CATEGORIES:NK 4-Takt
ATTACH;FMTTYPE=image/jpeg:https://www.chrono.nl/wp-content/uploads/2016/11/LogoKPX_2507.jpg
ORGANIZER;CN="Chrono Karting BV":MAILTO:gaby@chrono.nl
END:VEVENT
BEGIN:VEVENT
DTSTART;VALUE=DATE:20170819
DTEND;VALUE=DATE:20170821
DTSTAMP:20260420T041541
CREATED:20170104T141034Z
LAST-MODIFIED:20170104T141034Z
UID:9795-1503100800-1503273599@www.chrono.nl
SUMMARY:NK 2-Takt karting te circuit de Landsard
DESCRIPTION:
URL:https://www.chrono.nl/event/nk-2-takt-karting-circuit-landsard-2/
LOCATION:Circuit de Landsard (NL)\, Landsardseweg 47\, Eindhoven\, 5657 AB\, Nederland
CATEGORIES:NK 2-Takt
ATTACH;FMTTYPE=image/jpeg:https://www.chrono.nl/wp-content/uploads/2016/11/LogoKPX_4134.jpg
ORGANIZER;CN="Chrono Karting BV":MAILTO:gaby@chrono.nl
END:VEVENT
BEGIN:VEVENT
DTSTART;VALUE=DATE:20170715
DTEND;VALUE=DATE:20170717
DTSTAMP:20260420T041541
CREATED:20170104T140923Z
LAST-MODIFIED:20170104T141152Z
UID:9793-1500076800-1500249599@www.chrono.nl
SUMMARY:NK 2-Takt karting te circuit Spa Francorchamps
DESCRIPTION:
URL:https://www.chrono.nl/event/nk-2-takt-karting-circuit-spa-francorchamps/
LOCATION:Circuit Spa Francorchamps (B)\, Route du Circuit 55\, Stavelot\, 4970\, België
CATEGORIES:NK 2-Takt
ATTACH;FMTTYPE=image/jpeg:https://www.chrono.nl/wp-content/uploads/2016/11/LogoKP077289.jpg
ORGANIZER;CN="Chrono Karting BV":MAILTO:gaby@chrono.nl
END:VEVENT
BEGIN:VEVENT
DTSTART;TZID=Europe/Paris:20170709T090000
DTEND;TZID=Europe/Paris:20170709T110000
DTSTAMP:20260420T041541
CREATED:20170104T202301Z
LAST-MODIFIED:20170104T202301Z
UID:9896-1499590800-1499598000@www.chrono.nl
SUMMARY:DKS Les 6 - circuit de Landsard
DESCRIPTION:
URL:https://www.chrono.nl/event/dks-les-6-circuit-landsard/
LOCATION:Circuit de Landsard (NL)\, Landsardseweg 47\, Eindhoven\, 5657 AB\, Nederland
CATEGORIES:Dutch Karting School Beginners
ATTACH;FMTTYPE=image/jpeg:https://www.chrono.nl/wp-content/uploads/2016/04/20160403-TSC_1344.jpg
ORGANIZER;CN="Chrono Karting BV":MAILTO:gaby@chrono.nl
END:VEVENT
BEGIN:VEVENT
DTSTART;TZID=Europe/Paris:20170702T090000
DTEND;TZID=Europe/Paris:20170702T110000
DTSTAMP:20260420T041541
CREATED:20170104T202139Z
LAST-MODIFIED:20170104T202139Z
UID:9894-1498986000-1498993200@www.chrono.nl
SUMMARY:DKS Les 5 - circuit de Landsard
DESCRIPTION:
URL:https://www.chrono.nl/event/dks-les-5-circuit-landsard/
LOCATION:Circuit de Landsard (NL)\, Landsardseweg 47\, Eindhoven\, 5657 AB\, Nederland
CATEGORIES:Dutch Karting School Beginners
ATTACH;FMTTYPE=image/jpeg:https://www.chrono.nl/wp-content/uploads/2016/04/20160326-TSC_0874.jpg
ORGANIZER;CN="Chrono Karting BV":MAILTO:gaby@chrono.nl
END:VEVENT
BEGIN:VEVENT
DTSTART;VALUE=DATE:20170624
DTEND;VALUE=DATE:20170626
DTSTAMP:20260420T041541
CREATED:20170104T132945Z
LAST-MODIFIED:20170104T133726Z
UID:9751-1498262400-1498435199@www.chrono.nl
SUMMARY:NK 4-T karting te circuit de Landsard
DESCRIPTION:
URL:https://www.chrono.nl/event/nk-4t-karting-circuit-landsard/
LOCATION:Circuit de Landsard (NL)\, Landsardseweg 47\, Eindhoven\, 5657 AB\, Nederland
CATEGORIES:NK 4-Takt
ATTACH;FMTTYPE=image/jpeg:https://www.chrono.nl/wp-content/uploads/2016/11/LogoKPX_2582.jpg
ORGANIZER;CN="Chrono Karting BV":MAILTO:gaby@chrono.nl
END:VEVENT
BEGIN:VEVENT
DTSTART;TZID=Europe/Paris:20170618T100000
DTEND;TZID=Europe/Paris:20170618T120000
DTSTAMP:20260420T041541
CREATED:20170104T202014Z
LAST-MODIFIED:20170120T143337Z
UID:9892-1497780000-1497787200@www.chrono.nl
SUMMARY:DKS Les 4 - circuit park Berghem
DESCRIPTION:
URL:https://www.chrono.nl/event/dks-les-4-circuit-park-berghem/
LOCATION:Circuit Park Berghem (NL)\, Zevenbergseweg 45\, Berghem (Oss)\, 5351 PG\, Nederland
CATEGORIES:Dutch Karting School Beginners
ATTACH;FMTTYPE=image/jpeg:https://www.chrono.nl/wp-content/uploads/2016/04/20160403-TSC_1446.jpg
ORGANIZER;CN="Chrono Karting BV":MAILTO:gaby@chrono.nl
END:VEVENT
BEGIN:VEVENT
DTSTART;VALUE=DATE:20170610
DTEND;VALUE=DATE:20170612
DTSTAMP:20260420T041541
CREATED:20170104T140720Z
LAST-MODIFIED:20170121T083317Z
UID:9791-1497052800-1497225599@www.chrono.nl
SUMMARY:NK 2-Takt karting te circuit erftlandring Kerpen
DESCRIPTION:
URL:https://www.chrono.nl/event/nk-2-takt-karting-nnb/
LOCATION:Circuit Erftlandring Kerpen (D)\, Steinheide Kartbahn\, Kerpen\, 50170\, Duitsland
CATEGORIES:NK 2-Takt
ATTACH;FMTTYPE=image/jpeg:https://www.chrono.nl/wp-content/uploads/2016/11/LogoKP075225.jpg
ORGANIZER;CN="Chrono Karting BV":MAILTO:gaby@chrono.nl
END:VEVENT
BEGIN:VEVENT
DTSTART;TZID=Europe/Paris:20170528T100000
DTEND;TZID=Europe/Paris:20170528T120000
DTSTAMP:20260420T041541
CREATED:20170104T164534Z
LAST-MODIFIED:20170315T074648Z
UID:9833-1495965600-1495972800@www.chrono.nl
SUMMARY:DKS Les 2 - circuit park Berghem
DESCRIPTION:
URL:https://www.chrono.nl/event/dks-les-2-circuit-park-berghem/
LOCATION:Circuit Park Berghem (NL)\, Zevenbergseweg 45\, Berghem (Oss)\, 5351 PG\, Nederland
CATEGORIES:Dutch Karting School,Dutch Karting School Beginners,Dutch Karting School Gevorderde
ATTACH;FMTTYPE=image/jpeg:https://www.chrono.nl/wp-content/uploads/2016/04/20160326-TSC_0849.jpg
ORGANIZER;CN="Chrono Karting BV":MAILTO:gaby@chrono.nl
END:VEVENT
BEGIN:VEVENT
DTSTART;VALUE=DATE:20170520
DTEND;VALUE=DATE:20170522
DTSTAMP:20260420T041541
CREATED:20170104T140422Z
LAST-MODIFIED:20170104T140422Z
UID:9787-1495238400-1495411199@www.chrono.nl
SUMMARY:NK 2-Takt karting te circuit park Berghem
DESCRIPTION:
URL:https://www.chrono.nl/event/nk-2-takt-karting-circuit-park-berghem/
LOCATION:Circuit Park Berghem (NL)\, Zevenbergseweg 45\, Berghem (Oss)\, 5351 PG\, Nederland
CATEGORIES:NK 2-Takt
ATTACH;FMTTYPE=image/jpeg:https://www.chrono.nl/wp-content/uploads/2016/11/LogoKPX_4016.jpg
ORGANIZER;CN="Chrono Karting BV":MAILTO:gaby@chrono.nl
END:VEVENT
BEGIN:VEVENT
DTSTART;VALUE=DATE:20170513
DTEND;VALUE=DATE:20170515
DTSTAMP:20260420T041541
CREATED:20170104T132722Z
LAST-MODIFIED:20170104T133810Z
UID:9749-1494633600-1494806399@www.chrono.nl
SUMMARY:NK 4-T karting te circuit Spa Francorchamps
DESCRIPTION:
URL:https://www.chrono.nl/event/nk-4t-karting-circuit-spa-francorchamps/
LOCATION:Circuit Spa Francorchamps (B)\, Route du Circuit 55\, Stavelot\, 4970\, België
CATEGORIES:NK 4-Takt
ATTACH;FMTTYPE=image/jpeg:https://www.chrono.nl/wp-content/uploads/2016/11/LogoKPX_2147.jpg
ORGANIZER;CN="Chrono Karting BV":MAILTO:gaby@chrono.nl
END:VEVENT
BEGIN:VEVENT
DTSTART;TZID=Europe/Paris:20170507T090000
DTEND;TZID=Europe/Paris:20170507T110000
DTSTAMP:20260420T041541
CREATED:20170104T164406Z
LAST-MODIFIED:20170315T074637Z
UID:9831-1494147600-1494154800@www.chrono.nl
SUMMARY:DKS Les 1 - circuit de Landsard
DESCRIPTION:
URL:https://www.chrono.nl/event/dks-les-1-circuit-landsard/
LOCATION:Circuit de Landsard (NL)\, Landsardseweg 47\, Eindhoven\, 5657 AB\, Nederland
CATEGORIES:Dutch Karting School,Dutch Karting School Beginners
ATTACH;FMTTYPE=image/jpeg:https://www.chrono.nl/wp-content/uploads/2016/04/20160403-TSC_1428.jpg
END:VEVENT
END:VCALENDAR