BEGIN:VCALENDAR
VERSION:2.0
PRODID:-//Chrono Karting - ECPv6.15.17//NONSGML v1.0//EN
CALSCALE:GREGORIAN
METHOD:PUBLISH
X-ORIGINAL-URL:https://www.chrono.nl
X-WR-CALDESC:Evenementen voor Chrono Karting
REFRESH-INTERVAL;VALUE=DURATION:PT1H
X-Robots-Tag:noindex
X-PUBLISHED-TTL:PT1H
BEGIN:VTIMEZONE
TZID:Europe/Paris
BEGIN:DAYLIGHT
TZOFFSETFROM:+0100
TZOFFSETTO:+0200
TZNAME:CEST
DTSTART:20150329T010000
END:DAYLIGHT
BEGIN:STANDARD
TZOFFSETFROM:+0200
TZOFFSETTO:+0100
TZNAME:CET
DTSTART:20151025T010000
END:STANDARD
BEGIN:DAYLIGHT
TZOFFSETFROM:+0100
TZOFFSETTO:+0200
TZNAME:CEST
DTSTART:20160327T010000
END:DAYLIGHT
BEGIN:STANDARD
TZOFFSETFROM:+0200
TZOFFSETTO:+0100
TZNAME:CET
DTSTART:20161030T010000
END:STANDARD
BEGIN:DAYLIGHT
TZOFFSETFROM:+0100
TZOFFSETTO:+0200
TZNAME:CEST
DTSTART:20170326T010000
END:DAYLIGHT
BEGIN:STANDARD
TZOFFSETFROM:+0200
TZOFFSETTO:+0100
TZNAME:CET
DTSTART:20171029T010000
END:STANDARD
END:VTIMEZONE
BEGIN:VEVENT
DTSTART;VALUE=DATE:20161218
DTEND;VALUE=DATE:20161219
DTSTAMP:20260421T001433
CREATED:20161101T095211Z
LAST-MODIFIED:20161214T151049Z
UID:8586-1482019200-1482105599@www.chrono.nl
SUMMARY:Open Winter Serie 2T- race 1
DESCRIPTION:[mk_page_section padding_top=”0″ padding_bottom=”0″ sidebar=”sidebar-1″][vc_column width=”1/3″][/vc_column][vc_column width=”1/3″][mk_button dimension=”two” size=”medium” url=”https://www.chrono.nl/nk-2-takt/inschrijfformulier-2/” align=”center” margin_bottom=”0″ margin_right=”0″]Inschrijven[/mk_button][/vc_column][vc_column width=”1/3″][/vc_column][/mk_page_section][mk_page_section][vc_column width=”1/3″][mk_button dimension=”two” size=”large” url=”https://www.chrono.nl/wp-content/uploads/2016/12/programma-18-december-open-winter-serie-1-versie-4.0-final.pdf” align=”center” margin_right=”0″ bg_color=”#000000″]Programma van Wedstrijd\n[/mk_button][/vc_column][vc_column width=”1/3″][mk_button dimension=”two” size=”large” url=”https://www.chrono.nl/wp-content/uploads/2016/12/0105-chrono-br-rotax-open-winter-1.pdf” align=”center” margin_right=”0″ bg_color=”#000000″]KNAF bijzonder reglement[/mk_button][/vc_column][vc_column width=”1/3″][mk_button dimension=”two” size=”large” url=”https://www.chrono.nl/wp-content/uploads/2016/12/technische-registratie-formulier.pdf” align=”center” margin_right=”0″ bg_color=”#000000″]TC registratie formulier[/mk_button][/vc_column][/mk_page_section][mk_page_section][vc_column width=”1/2″][mk_button dimension=”two” size=”large” url=”https://www.chrono.nl/wp-content/uploads/2016/12/entry-list-open-winter-serie.pdf” align=”center” margin_right=”0″ bg_color=”#000000″]Voorlopige deelnemerslijst[/mk_button][/vc_column][vc_column width=”1/2″][mk_button dimension=”two” size=”large” url=”https://www.chrono.nl/wp-content/uploads/2016/12/free-practice-17-december.pdf” target=”_blank” align=”center” margin_right=”0″ bg_color=”#000000″]Vrije training zaterdag[/mk_button][/vc_column][/mk_page_section]
URL:https://www.chrono.nl/event/winterserie/
LOCATION:Circuit Erftlandring Kerpen (D)\, Steinheide Kartbahn\, Kerpen\, 50170\, Duitsland
CATEGORIES:2-Takt Winter
ATTACH;FMTTYPE=image/jpeg:https://www.chrono.nl/wp-content/uploads/2016/11/LogoKP010577.jpg
ORGANIZER;CN="Chrono Karting BV":MAILTO:gaby@chrono.nl
END:VEVENT
BEGIN:VEVENT
DTSTART;VALUE=DATE:20161127
DTEND;VALUE=DATE:20161128
DTSTAMP:20260421T001433
CREATED:20161108T103407Z
LAST-MODIFIED:20161123T151250Z
UID:9039-1480204800-1480291199@www.chrono.nl
SUMMARY:Dutch Karting School - Les 10/Examen
DESCRIPTION:[mk_page_section][vc_column width=”1/4″][mk_button size=”medium” url=”https://www.chrono.nl/inschrijfformulier-dutch-karting-school/” align=”center”]Inschrijven[/mk_button][/vc_column][vc_column width=”1/4″][vc_column_text]Aanvang: 09:00 tot 12:00[/vc_column_text][/vc_column][vc_column width=”1/4″][/vc_column][vc_column width=”1/4″][/vc_column][/mk_page_section]
URL:https://www.chrono.nl/event/dutch-karting-school-les-10examen/
LOCATION:Circuit Park Berghem (NL)\, Zevenbergseweg 45\, Berghem (Oss)\, 5351 PG\, Nederland
CATEGORIES:Dutch Karting School,Dutch Karting School Beginners
ATTACH;FMTTYPE=image/jpeg:https://www.chrono.nl/wp-content/uploads/2016/11/banner2.jpg
ORGANIZER;CN="Chrono Karting BV":MAILTO:gaby@chrono.nl
END:VEVENT
BEGIN:VEVENT
DTSTART;VALUE=DATE:20161120
DTEND;VALUE=DATE:20161121
DTSTAMP:20260421T001433
CREATED:20161108T102726Z
LAST-MODIFIED:20161115T093713Z
UID:9036-1479600000-1479686399@www.chrono.nl
SUMMARY:Dutch Karting School - Les 09
DESCRIPTION:[mk_page_section][vc_column width=”1/4″][mk_button size=”medium” url=”https://www.chrono.nl/inschrijfformulier/” align=”center”]Inschrijven[/mk_button][/vc_column][vc_column width=”1/4″][vc_column_text]Aanvang: 09:00 tot 11:00[/vc_column_text][/vc_column][vc_column width=”1/4″][/vc_column][vc_column width=”1/4″][/vc_column][/mk_page_section]
URL:https://www.chrono.nl/event/dutch-karting-school-les-09/
LOCATION:Circuit Park Berghem (NL)\, Zevenbergseweg 45\, Berghem (Oss)\, 5351 PG\, Nederland
CATEGORIES:Dutch Karting School,Dutch Karting School Beginners
ATTACH;FMTTYPE=image/jpeg:https://www.chrono.nl/wp-content/uploads/2016/11/banner4.jpg
ORGANIZER;CN="Chrono Karting BV":MAILTO:gaby@chrono.nl
END:VEVENT
END:VCALENDAR